Workbook

Sheet Release Plan
A2: Sprint Plan
A4: Sprint | B4: Start | C4: Days | D4: End | E4: Size | F4: Status | G4: Release Date | H4: Goal | I4: Increment
A5: 1 | B5: 39420 | C5: 18 | D5: =IF(AND(B5<>"",C5<>""),B5+C5-1,"") -> 39437 | E5: 1 | F5: Released | H5: Planning
A6: 2 | B6: 39453 | C6: 13 | D6: =IF(AND(B6<>"",C6<>""),B6+C6-1,"") -> 39465 | E6: =IF(A5="","",SUMIF('Product Backlog'!E$5:E$102,A6,'Product Backlog'!D$6:D$102)) | F6: Released | H6: High level design and document drafts | I6: 1
A7: 3 | B7: =IF(AND(B6<>"",C6<>"",C7<>""),B6+C6,"") -> 39466 | C7: 16 | D7: =IF(AND(B7<>"",C7<>""),B7+C7-1,"") -> 39481 | E7: =IF(A6="","",SUMIF('Product Backlog'!E$5:E$102,A6,'Product Backlog'!D$5:D$102)) -> 11 | F7: Released | H7: In depth documentation and design | I7: 1
A8: 4 | B8: =IF(AND(B7<>"",C7<>"",C8<>""),B7+C7,"") -> 39482 | C8: 21 | D8: =IF(AND(B8<>"",C8<>""),B8+C8-1,"") -> 39502 | E8: =IF(A7="","",SUMIF('Product Backlog'!E$5:E$102,A7,'Product Backlog'!D$5:D$102)) -> 13 | F8: Planned | H8: Design, documentation and interim presentation | I8: 1
A9: 5 | B9: =IF(AND(B8<>"",C8<>"",C9<>""),B8+C8,"") -> 39503 | C9: 14 | D9: =IF(AND(B9<>"",C9<>""),B9+C9-1,"") -> 39516 | E9: =IF(A8="","",SUMIF('Product Backlog'!E$5:E$102,A8,'Product Backlog'!D$5:D$102)) -> 0 | F9: =IF(AND(OR(F8="Planned",F8="Ongoing"),C9<>""),"Planned","Unplanned") -> Planned | H9: Implementation and testing | I9: 2
A10: 6 | B10: =IF(AND(B9<>"",C9<>"",C10<>""),B9+C9,"") -> 39517 | C10: 21 | D10: =IF(AND(B10<>"",C10<>""),B10+C10-1,"") -> 39537 | E10: =IF(A9="","",SUMIF('Product Backlog'!E$5:E$102,A9,'Product Backlog'!D$5:D$102)) -> 38 | F10: =IF(AND(OR(F9="Planned",F9="Ongoing"),C10<>""),"Planned","Unplanned") -> Planned | H10: Implementation, testing and documentation | I10: 2
A11: 7 | B11: 39538 | C11: 21 | D11: =IF(AND(B11<>"",C11<>""),B11+C11-1,"") -> 39558 | E11: =IF(A9="","",SUMIF('Product Backlog'!E$5:E$102,A9,'Product Backlog'!D$5:D$102)) -> 38 | F11: =IF(AND(OR(F9="Planned",F9="Ongoing"),C11<>""),"Planned","Unplanned") -> Planned | H11: Release | I11: 2
D12: Unallocated stories | E12: =SUMIF('Product Backlog'!E$6:E$102,"",'Product Backlog'!D$6:D$102)-SUMIF('Product Backlog'!C$6:C$102,"Removed",'Product Backlog'!D$6:D$102) -> 5

Sheet Product Backlog
A1: Product Backlog
A4: Story ID | B4: Story name | C4: Status | D4: Size | E4: Sprint | F4: Priority | G4: Comments
A5: 1 | B5: Architecture document | C5: Done | D5: 3 | E5: 2
A6: 2 | B6: Use cases / stories | C6: Ongoing | D6: 5 | E6: 2
A7: 3 | B7: Metrics | C7: Ongoing | D7: 3 | E7: 2
A8: 4 | B8: Layer interface | C8: Ongoing | D8: 8 | E8: 3 | G8: e.g. XML structure, security contract, etc
A9: 5 | B9: Class design | C9: Ongoing | D9: 5 | E9: 3
A10: 6 | B10: Research | C10: Done | D10: 10 | E10: 1
A11: 7 | B11: SE tasks | C11: Ongoing | D11: 10 | E11: 1
A12: 8 | B12: Testing | C12: Ongoing | D12: 5
A13: 9 | B13: REQ-1.1: verify and validate and identify client | C13: Planned | D13: 2 | E13: 5
A14: 10 | B14: REQ-1.2: get all majors | C14: Planned | D14: 2 | E14: 5
A15: 11 | B15: REQ-1.3: get all colleges | C15: Planned | D15: 2 | E15: 5
A16: 12 | B16: REQ-1.4: get all job types | C16: Planned | D16: 2 | E16: 5
A17: 13 | B17: REQ-1.6: get all locations (state/regions) | C17: Planned | D17: 2 | E17: 5
A18: 14 | B18: REQ-1.7: get all OCECS regions (from regions table) | C18: Planned | D18: 2 | E18: 5
A19: 15 | B19: REQ-1.8: get quarters | C19: Planned | D19: 2 | E19: 5
A20: 16 | B20: REQ-1.9: get month/quarter mapping | C20: Planned | D20: 2 | E20: 5
A21: 17 | B21: REQ-2.1: filter student records by a start and end quarters (inclusive start and end). | C21: Planned | D21: 2 | E21: 5
A22: 18 | B22: REQ-2.2: filter by job types | C22: Planned | D22: 2 | E22: 5
A23: 19 | B23: REQ-2.3: filter students by gender | C23: Planned | D23: 2 | E23: 5
A24: 20 | B24: REQ-2.4: filter by major(s) - can select multiple majors to query | C24: Planned | D24: 2 | E24: 5
... A81: 77 | B81: REQ-5.15: return report of all matching activity records | C81: Planned | D81: 2 | E81: 6

Sheet PB Burndown
A1: Product Backlog Burndown Chart
A3: Original planned size | D3: 137 | F3: Sprint count | G3: =IF(COUNT(B28:B39)=0,1,COUNT(B28:B39)) -> 5
A4: Count trend from last | D4: 3 | E4: sprints | F4: Trend sprint count | G4: =IF(COUNT(D28:D51)=0,1,COUNT(D28:D51)+1) -> 3
F5: Trend offset | G5: =IF(G4>D4,G4-D4,0) -> 0 | Z5: Note:
A6: Velocity (points per sprint) | F6: Sprints in Trend | G6: =$G$4-$G$5 -> 3 | Z6: In this chart, the tops of the bars show the amount of actual
A7: Original estimate | D7: 30 | Z7: (or planned) implemented functionality at the beginning of each sprint.
A8: =D$4 -> 3 | D8: =IF(D28="","",AVERAGE(OFFSET(D27,$G$5,0,$G$6,1))) -> 25 | Z8: The bottoms of the bars show the changes in project scope
A9: Realized total average | D9: =IF(D28="","",AVERAGE(OFFSET(D27,1,0,$G$3,1))) -> 25 | F9: Trend count | G9: =IF(M28="",1,COUNT(M28:M110)) -> 7 | Z9: (i.e. if the amount of story points
A10: Average last 8 | D10: 25 | Z10: in the project increases, the bottoms move lower). The length
A11: Avg. worst 3 in last 8 | D11: 25 | Z11: of the bars indicate the estimated size of the project at the
A12: Trend | D12: =IF(M29="","",M28-M29) -> 25 | Z12: beginning of each sprint.
F13: These hidden cells are used to draw the graph on this page. DO NOT DELETE! | Z13: The red line indicates the current planned scope.
A14: Predictions - Completion at the end of sprint…
A15: Original estimate - Min | D15: =IF(D7="",0,ROUNDUP(D3/D7*0.6,0)) -> 3
A16: Original estimate - Avg | D16: =IF(D7="",0,ROUNDUP(D3/D7,0)) -> 5
A17: Original estimate - Max | D17: =IF(D7="",0,ROUNDUP(D3/D7*1.6,0)) -> 8 | F17: Standard Dev. | G17: =IF(OR(D28="",D29=""),1,STDEV(D28:D51)) -> 2.8284271
A18: =D$4 -> 3 | D18: 6
A19: Realized average | D19: 6 | F19: LastPlanned | G19: 28
A20: Average last 8 | D20: 6 | F20: LastRealized | G20: 0
A21: Avg. worst 3 in last 8 | D21: 6
A22: Trend | D22: =IF(COUNT(M28:M51)-1>0,COUNT(M28:M51)-1,"") -> 6
A23: Realized + St. Dev | D23: 6
A24: Realized - St. Dev | D24: 6
F26: Trend | O26: Average Speeds
A27: Sprint | B27: Remain.Work | C27: Planned Work | D27: Realized Work | E27: Current Total Size | F27: Col top | G27: Do not delete… | I27: Col bottom | K27: Trend Help | L27: Raw Trend | M27: Real Trend | N27: Current Bottom | O27: Realized | P27: Last 8 | Q27: Worst 3 in Last 8
A28: 1 | B28: =D3 -> 137 | C28: 23 | D28: 23 | E28: =B28 -> 137 | F28: =B28 -> 137 | G28: =F28 -> 137 | H28: =I28 -> 0 | I28: 0 | K28: =IF(F28<I28,I28,F28) -> 137 | L28: 137.66667 | M28: =L28 -> 137.66667 | N28: =OFFSET($I$27,$G$4,0,1,1) -> 0 | O28: =D$9 -> 25 | P28: =D$10 -> 25 | Q28: =D$11 -> 25
A29: 2 | B29: =IF(OR(B28="",C28=""),"",IF(D28="",IF(B28-C28<=0,"",B28-C28),IF(B28-D28<=0,"",B28-D28))) -> 114 | C29: 29 | D29: 27 | E29: =IF(B29="","",IF(D28="",E28,B29+SUM(D$28:D28))) -> 137 | F29: =IF(B29="",IF(B28="","",IF(D28="","",I28)),IF(AND(D28="",C28=""),"",IF(AND(D28="",C28<>""),IF(I28>F28,F28,I28),F28-D28))) -> 114 | G29: =F29 -> 114 | H29: =I29 -> 0 | I29: =IF(B29="",IF(B28="","",IF(D28="","",F28-D28)),IF(AND(C28="",D28=""),"",IF(AND(D28="",C28<>""),IF(I28>F28,I28-C28,F28-C28),B$28-B29-SUM(D$28:D28)))) -> 0 | K29: =IF(F29<I29,I29,F29) -> 114 | L29: 112.66667 | M29: =IF(L29=L28,"",L29) -> 112.66667 | N29: =OFFSET($I$27,$G$4,0,1,1) -> 0 | O29: =D$9 -> 25 | P29: =D$10 -> 25 | Q29: =D$11 -> 25
A30: 3 | B30: =IF(OR(B29="",C29=""),"",IF(D29="",IF(B29-C29<=0,"",B29-C29),IF(B29-D29<=0,"",B29-D29))) -> 87 | C30: 31 | E30: =IF(B30="","",IF(D29="",E29,B30+SUM(D$28:D29))) -> 137 | F30: =IF(B30="",IF(B29="","",IF(D29="","",I29)),IF(AND(D29="",C29=""),"",IF(AND(D29="",C29<>""),IF(I29>F29,F29,I29),F29-D29))) -> 87 | G30: =F30 -> 87 | H30: =I30 -> 0 | I30: =IF(B30="",IF(B29="","",IF(D29="","",F29-D29)),IF(AND(C29="",D29=""),"",IF(AND(D29="",C29<>""),IF(I29>F29,I29-C29,F29-C29),B$28-B30-SUM(D$28:D29)))) -> 0 | K30: =IF(F30<I30,I30,F30) -> 87 | L30: 87.666667 | M30: =IF(L30=L29,"",L30) -> 87.666667 | N30: =OFFSET($I$27,$G$4,0,1,1) -> 0 | O30: =D$9 -> 25 | P30: =D$10 -> 25 | Q30: =D$11 -> 25
A31: 4 | B31: =IF(OR(B30="",C30=""),"",IF(D30="",IF(B30-C30<=0,"",B30-C30),IF(B30-D30<=0,"",B30-D30))) -> 56 | C31: 28 | E31: =IF(B31="","",IF(D30="",E30,B31+SUM(D$28:D30))) -> 137 | F31: =IF(B31="",IF(B30="","",IF(D30="","",I30)),IF(AND(D30="",C30=""),"",IF(AND(D30="",C30<>""),IF(I30>F30,F30,I30),F30-D30))) -> 0 | G31: =F31 -> 0 | H31: =I31 -> 56 | I31: =IF(B31="",IF(B30="","",IF(D30="","",F30-D30)),IF(AND(C30="",D30=""),"",IF(AND(D30="",C30<>""),IF(I30>F30,I30-C30,F30-C30),B$28-B31-SUM(D$28:D30)))) -> 56 | K31: =IF(F31<I31,I31,F31) -> 56 | L31: 62.666667 | M31: =IF(L31=L30,"",L31) -> 62.666667 | N31: =OFFSET($I$27,$G$4,0,1,1) -> 0 | O31: =D$9 -> 25 | P31: =D$10 -> 25 | Q31: =D$11 -> 25
A32: 5 | B32: =IF(OR(B31="",C31=""),"",IF(D31="",IF(B31-C31<=0,"",B31-C31),IF(B31-D31<=0,"",B31-D31))) -> 28 | C32: 28 | E32: =IF(B32="","",IF(D31="",E31,B32+SUM(D$28:D31))) -> 137 | F32: =IF(B32="",IF(B31="","",IF(D31="","",I31)),IF(AND(D31="",C31=""),"",IF(AND(D31="",C31<>""),IF(I31>F31,F31,I31),F31-D31))) -> 0 | G32: =F32 -> 0 | H32: =I32 -> 28 | I32: =IF(B32="",IF(B31="","",IF(D31="","",F31-D31)),IF(AND(C31="",D31=""),"",IF(AND(D31="",C31<>""),IF(I31>F31,I31-C31,F31-C31),B$28-B32-SUM(D$28:D31)))) -> 28 | K32: =IF(F32<I32,I32,F32) -> 28 | L32: 37.666667 | M32: =IF(L32=L31,"",L32) -> 37.666667 | N32: =OFFSET($I$27,$G$4,0,1,1) -> 0 | O32: =D$9 -> 25 | P32: =D$10 -> 25 | Q32: =D$11 -> 25
A33: 6 | B33: =IF(OR(B32="",C32=""),"",IF(D32="",IF(B32-C32<=0,"",B32-C32),IF(B32-D32<=0,"",B32-D32))) | E33: =IF(B33="","",IF(D32="",E32,B33+SUM(D$28:D32))) | F33: =IF(B33="",IF(B32="","",IF(D32="","",I32)),IF(AND(D32="",C32=""),"",IF(AND(D32="",C32<>""),IF(I32>F32,F32,I32),F32-D32))) | G33: =F33 | H33: =I33 | I33: =IF(B33="",IF(B32="","",IF(D32="","",F32-D32)),IF(AND(C32="",D32=""),"",IF(AND(D32="",C32<>""),IF(I32>F32,I32-C32,F32-C32),B$28-B33-SUM(D$28:D32)))) | K33: =IF(F33<I33,I33,F33) | L33: 12.666667 | M33: =IF(L33=L32,"",L33) -> 12.666667 | N33: =OFFSET($I$27,$G$4,0,1,1) -> 0 | O33: =D$9 -> 25 | P33: =D$10 -> 25 | Q33: =D$11 -> 25
A34: 7 | B34: =IF(OR(B33="",C33=""),"",IF(D33="",IF(B33-C33<=0,"",B33-C33),IF(B33-D33<=0,"",B33-D33))) | E34: =IF(B34="","",IF(D33="",E33,B34+SUM(D$28:D33))) | F34: =IF(B34="",IF(B33="","",IF(D33="","",I33)),IF(AND(D33="",C33=""),"",IF(AND(D33="",C33<>""),IF(I33>F33,F33,I33),F33-D33))) | G34: =F34 | H34: =I34 | I34: =IF(B34="",IF(B33="","",IF(D33="","",F33-D33)),IF(AND(C33="",D33=""),"",IF(AND(D33="",C33<>""),IF(I33>F33,I33-C33,F33-C33),B$28-B34-SUM(D$28:D33)))) | K34: =IF(F34<I34,I34,F34) | L34: 0 | M34: =IF(L34=L33,"",L34) -> 0 | N34: =OFFSET($I$27,$G$4,0,1,1) -> 0 | O34: =D$9 -> 25 | P34: =D$10 -> 25 | Q34: =D$11 -> 25
F35: =IF(B35="",IF(B34="","",IF(D34="","",I34)),IF(AND(D34="",C34=""),"",IF(AND(D34="",C34<>""),IF(I34>F34,F34,I34),F34-D34))) | G35: =F35 | H35: =I35 | I35: =IF(B35="",IF(B34="","",IF(D34="","",F34-D34)),IF(AND(C34="",D34=""),"",IF(AND(D34="",C34<>""),IF(I34>F34,I34-C34,F34-C34),B$28-B35-SUM(D$28:D34)))) | K35: =IF(F35<I35,I35,F35) | M35: =IF(L35=L34,"",L35) | N35: =OFFSET($I$27,$G$4,0,1,1) -> 0 | O35: =D$9 -> 25 | P35: =D$10 -> 25 | Q35: =D$11 -> 25
F36: =IF(B36="",IF(B35="","",IF(D35="","",I35)),IF(AND(D35="",C35=""),"",IF(AND(D35="",C35<>""),IF(I35>F35,F35,I35),F35-D35))) | G36: =F36 | H36: =I36 | I36: =IF(B36="",IF(B35="","",IF(D35="","",F35-D35)),IF(AND(C35="",D35=""),"",IF(AND(D35="",C35<>""),IF(I35>F35,I35-C35,F35-C35),B$28-B36-SUM(D$28:D35)))) | K36: =IF(F36<I36,I36,F36) | M36: =IF(L36=L35,"",L36) | N36: =OFFSET($I$27,$G$4,0,1,1) -> 0 | O36: =D$9 -> 25 | P36: =D$10 -> 25 | Q36: =D$11 -> 25
F37: =IF(B37="",IF(B36="","",IF(D36="","",I36)),IF(AND(D36="",C36=""),"",IF(AND(D36="",C36<>""),IF(I36>F36,F36,I36),F36-D36))) | G37: =F37 | H37: =I37 | I37: =IF(B37="",IF(B36="","",IF(D36="","",F36-D36)),IF(AND(C36="",D36=""),"",IF(AND(D36="",C36<>""),IF(I36>F36,I36-C36,F36-C36),B$28-B37-SUM(D$28:D36)))) | K37: =IF(F37<I37,I37,F37) | M37: =IF(L37=L36,"",L37) | N37: =OFFSET($I$27,$G$4,0,1,1) -> 0 | O37: =D$9 -> 25 | P37: =D$10 -> 25 | Q37: =D$11 -> 25
F38: =IF(B38="",IF(B37="","",IF(D37="","",I37)),IF(AND(D37="",C37=""),"",IF(AND(D37="",C37<>""),IF(I37>F37,F37,I37),F37-D37))) | G38: =F38 | H38: =I38 | I38: =IF(B38="",IF(B37="","",IF(D37="","",F37-D37)),IF(AND(C37="",D37=""),"",IF(AND(D37="",C37<>""),IF(I37>F37,I37-C37,F37-C37),B$28-B38-SUM(D$28:D37)))) | K38: =IF(F38<I38,I38,F38) | M38: =IF(L38=L37,"",L38) | N38: =OFFSET($I$27,$G$4,0,1,1) -> 0 | O38: =D$9 -> 25 | P38: =D$10 -> 25 | Q38: =D$11 -> 25
F39: =IF(B39="",IF(B38="","",IF(D38="","",I38)),IF(AND(D38="",C38=""),"",IF(AND(D38="",C38<>""),IF(I38>F38,F38,I38),F38-D38))) | G39: =F39 | H39: =I39 | I39: =IF(B39="",IF(B38="","",IF(D38="","",F38-D38)),IF(AND(C38="",D38=""),"",IF(AND(D38="",C38<>""),IF(I38>F38,I38-C38,F38-C38),B$28-B39-SUM(D$28:D38)))) | K39: =IF(F39<I39,I39,F39) | M39: =IF(L39=L38,"",L39) | N39: =OFFSET($I$27,$G$4,0,1,1) -> 0 | O39: =D$9 -> 25 | P39: =D$10 -> 25 | Q39: =D$11 -> 25
F40: =IF(B40="",IF(B39="","",IF(D39="","",I39)),IF(AND(D39="",C39=""),"",IF(AND(D39="",C39<>""),IF(I39>F39,F39,I39),F39-D39))) | G40: =F40 | H40: =I40 | I40: =IF(B40="",IF(B39="","",IF(D39="","",F39-D39)),IF(AND(C39="",D39=""),"",IF(AND(D39="",C39<>""),IF(I39>F39,I39-C39,F39-C39),B$28-B40-SUM(D$28:D39)))) | K40: =IF(F40<I40,I40,F40) | M40: =IF(L40=L39,"",L40) | N40: =OFFSET($I$27,$G$4,0,1,1) -> 0 | O40: =D$9 -> 25 | P40: =D$10 -> 25 | Q40: =D$11 -> 25
F41: =IF(B41="",IF(B40="","",IF(D40="","",I40)),IF(AND(D40="",C40=""),"",IF(AND(D40="",C40<>""),IF(I40>F40,F40,I40),F40-D40))) | G41: =F41 | H41: =I41 | I41: =IF(B41="",IF(B40="","",IF(D40="","",F40-D40)),IF(AND(C40="",D40=""),"",IF(AND(D40="",C40<>""),IF(I40>F40,I40-C40,F40-C40),B$28-B41-SUM(D$28:D40)))) | K41: =IF(F41<I41,I41,F41) | M41: =IF(L41=L40,"",L41) | N41: =OFFSET($I$27,$G$4,0,1,1) -> 0 | O41: =D$9 -> 25 | P41: =D$10 -> 25 | Q41: =D$11 -> 25
F42: =IF(B42="",IF(B41="","",IF(D41="","",I41)),IF(AND(D41="",C41=""),"",IF(AND(D41="",C41<>""),IF(I41>F41,F41,I41),F41-D41))) | G42: =F42 | H42: =I42 | I42: =IF(B42="",IF(B41="","",IF(D41="","",F41-D41)),IF(AND(C41="",D41=""),"",IF(AND(D41="",C41<>""),IF(I41>F41,I41-C41,F41-C41),B$28-B42-SUM(D$28:D41)))) | K42: =IF(F42<I42,I42,F42) | M42: =IF(L42=L41,"",L42) | N42: =OFFSET($I$27,$G$4,0,1,1) -> 0 | O42: =D$9 -> 25 | P42: =D$10 -> 25 | Q42: =D$11 -> 25
F43: =IF(B43="",IF(B42="","",IF(D42="","",I42)),IF(AND(D42="",C42=""),"",IF(AND(D42="",C42<>""),IF(I42>F42,F42,I42),F42-D42))) | G43: =F43 | H43: =I43 | I43: =IF(B43="",IF(B42="","",IF(D42="","",F42-D42)),IF(AND(C42="",D42=""),"",IF(AND(D42="",C42<>""),IF(I42>F42,I42-C42,F42-C42),B$28-B43-SUM(D$28:D42)))) | K43: =IF(F43<I43,I43,F43) | M43: =IF(L43=L42,"",L43) | N43: =OFFSET($I$27,$G$4,0,1,1) -> 0 | O43: =D$9 -> 25 | P43: =D$10 -> 25 | Q43: =D$11 -> 25
F44: =IF(B44="",IF(B43="","",IF(D43="","",I43)),IF(AND(D43="",C43=""),"",IF(AND(D43="",C43<>""),IF(I43>F43,F43,I43),F43-D43))) | G44: =F44 | H44: =I44 | I44: =IF(B44="",IF(B43="","",IF(D43="","",F43-D43)),IF(AND(C43="",D43=""),"",IF(AND(D43="",C43<>""),IF(I43>F43,I43-C43,F43-C43),B$28-B44-SUM(D$28:D43)))) | K44: =IF(F44<I44,I44,F44) | M44: =IF(L44=L43,"",L44) | N44: =OFFSET($I$27,$G$4,0,1,1) -> 0 | O44: =D$9 -> 25 | P44: =D$10 -> 25 | Q44: =D$11 -> 25
F45: =IF(B45="",IF(B44="","",IF(D44="","",I44)),IF(AND(D44="",C44=""),"",IF(AND(D44="",C44<>""),IF(I44>F44,F44,I44),F44-D44))) | G45: =F45 | H45: =I45 | I45: =IF(B45="",IF(B44="","",IF(D44="","",F44-D44)),IF(AND(C44="",D44=""),"",IF(AND(D44="",C44<>""),IF(I44>F44,I44-C44,F44-C44),B$28-B45-SUM(D$28:D44)))) | K45: =IF(F45<I45,I45,F45) | M45: =IF(L45=L44,"",L45) | N45: =OFFSET($I$27,$G$4,0,1,1) -> 0 | O45: =D$9 -> 25 | P45: =D$10 -> 25 | Q45: =D$11 -> 25
F46: =IF(B46="",IF(B45="","",IF(D45="","",I45)),IF(AND(D45="",C45=""),"",IF(AND(D45="",C45<>""),IF(I45>F45,F45,I45),F45-D45))) | G46: =F46 | H46: =I46 | I46: =IF(B46="",IF(B45="","",IF(D45="","",F45-D45)),IF(AND(C45="",D45=""),"",IF(AND(D45="",C45<>""),IF(I45>F45,I45-C45,F45-C45),B$28-B46-SUM(D$28:D45)))) | K46: =IF(F46<I46,I46,F46) | M46: =IF(L46=L45,"",L46) | N46: =OFFSET($I$27,$G$4,0,1,1) -> 0 | O46: =D$9 -> 25 | P46: =D$10 -> 25 | Q46: =D$11 -> 25
... F51: =IF(B51="",IF(B50="","",IF(D50="","",I50)),IF(AND(D50="",C50=""),"",IF(AND(D50="",C50<>""),IF(I50>F50,F50,I50),F50-D50))) | G51: =F51 | H51: =I51 | I51: =IF(B51="",IF(B50="","",IF(D50="","",F50-D50)),IF(AND(C50="",D50=""),"",IF(AND(D50="",C50<>""),IF(I50>F50,I50-C50,F50-C50),B$28-B51-SUM(D$28:D50)))) | K51: =IF(F51<I51,I51,F51) | M51: =IF(L51=L50,"",L51) | N51: =OFFSET($I$27,$G$4,0,1,1) -> 0 | O51: =D$9 -> 25 | P51: =D$10 -> 25 | Q51: =D$11 -> 25

Sheet Sp1
A1: 1
A9: Sprint implementation days | B9: 5 | E9: Effort | F9: Remaining on implementation day…
A10: Trend calculated based on last | B10: 5 | C10: Days | D10: Totals | E10: =SUM(OFFSET(E14,1,0,$B$11,1)) -> 5 | F10: =IF(AND(SUM(OFFSET(F14,1,0,$B$11,1))=0),0,SUM(OFFSET(F14,1,0,$B$11,1))) -> 5 | G10: =IF(AND(SUM(OFFSET(G14,1,0,$B$11,1))=0),"",SUM(OFFSET(G14,1,0,$B$11,1))) -> 2 | H10: =IF(AND(SUM(OFFSET(H14,1,0,$B$11,1))=0),"",SUM(OFFSET(H14,1,0,$B$11,1))) | I10: =IF(AND(SUM(OFFSET(I14,1,0,$B$11,1))=0),"",SUM(OFFSET(I14,1,0,$B$11,1))) | J10: =IF(AND(SUM(OFFSET(J14,1,0,$B$11,1))=0),"",SUM(OFFSET(J14,1,0,$B$11,1))) | K10: =IF(AND(SUM(OFFSET(K14,1,0,$B$11,1))=0),"",SUM(OFFSET(K14,1,0,$B$11,1))) | L10: =IF(AND(SUM(OFFSET(L14,1,0,$B$11,1))=0),"",SUM(OFFSET(L14,1,0,$B$11,1))) | M10: =IF(AND(SUM(OFFSET(M14,1,0,$B$11,1))=0),"",SUM(OFFSET(M14,1,0,$B$11,1))) | N10: =IF(AND(SUM(OFFSET(N14,1,0,$B$11,1))=0),"",SUM(OFFSET(N14,1,0,$B$11,1))) | ... AD10: =IF(AND(SUM(OFFSET(AD14,1,0,$B$11,1))=0),"",SUM(OFFSET(AD14,1,0,$B$11,1)))
A11: Task rows | B11: =IF(COUNTA(A15:A242)=0,1,COUNTA(A15:A242)) -> 1 | C11: Done days | D11: =IF(COUNTIF(F10:AD10,">0")=0,1,COUNTIF(F10:AD10,">0")) -> 2 | F11: =IF(F14="","",$E10-$E10/($B9-1)*(F14-1)) -> 5 | G11: =IF(G14="","",$E$10-$E$10/($B$9)*(G14-1)) -> 4 | H11: =IF(H14="","",$E$10-$E$10/($B$9)*(H14-1)) -> 3 | I11: =IF(I14="","",$E$10-$E$10/($B$9)*(I14-1)) -> 2 | J11: =IF(J14="","",$E$10-$E$10/($B$9)*(J14-1)) -> 1 | K11: =IF(K14="","",$E$10-$E$10/($B$9)*(K14-1)) | L11: =IF(L14="","",$E$10-$E$10/($B$9)*(L14-1)) | M11: =IF(M14="","",$E$10-$E$10/($B$9)*(M14-1)) | N11: =IF(N14="","",$E$10-$E$10/($B$9)*(N14-1)) | ... AD11: =IF(AD14="","",$E$10-$E$10/($B$9)*(AD14-1))
A12: Warning! These are necessary | C12: Trend | F12: 5 | G12: 2
A13: template rows | C13: Trend Days | D13: =IF($D$11>B10,B10,$D$11) -> 2 | F13: =IF($D$11>E13,E13+1,"") -> 1 | G13: 2 | H13: 3 | I13: 4 | J13: 5 | K13: 6 | L13: 7 | M13: 8 | N13: 9 | O13: 10 | P13: 11 | Q13: 12 | R13: 13 | S13: 14 | T13: 15 | U13: 16 | V13: 17 | W13: 18 | X13: 19 | Y13: 20 | Z13: 21 | AA13: 22 | AB13: 23 | AC13: 24 | AD13: 25
A14: Task name | B14: Story ID | C14: Responsible | D14: Status | E14: Est. | F14: 1 | G14: =IF($B$9>F14,F14+1,"") -> 2 | H14: =IF($B$9>G14,G14+1,"") -> 3 | I14: =IF($B$9>H14,H14+1,"") -> 4 | J14: =IF($B$9>I14,I14+1,"") -> 5 | K14: =IF($B$9>J14,J14+1,"") | L14: =IF($B$9>K14,K14+1,"") | M14: =IF($B$9>L14,L14+1,"") | N14: =IF($B$9>M14,M14+1,"") | ... AD14: =IF($B$9>AC14,AC14+1,"")
A15: Study and comprehend system and technologies needed | B15: 6 | C15: Team | D15: Done | E15: 5 | F15: =IF(OR(F$14="",$E15=""),"",E15) -> 5 | G15: 2 | H15: 0
AC19: =IF(OR(AC$14="",$E19=""),"",AB19) | AD19: =IF(OR(AD$14="",$E19=""),"",AC19)
AC20: =IF(OR(AC$14="",$E20=""),"",AB20) | AD20: =IF(OR(AD$14="",$E20=""),"",AC20)
AC21: =IF(OR(AC$14="",$E21=""),"",AB21) | AD21: =IF(OR(AD$14="",$E21=""),"",AC21)
AC22: =IF(OR(AC$14="",$E22=""),"",AB22) | AD22: =IF(OR(AD$14="",$E22=""),"",AC22)
AC23: =IF(OR(AC$14="",$E23=""),"",AB23) | AD23: =IF(OR(AD$14="",$E23=""),"",AC23)
AC24: =IF(OR(AC$14="",$E24=""),"",AB24) | AD24: =IF(OR(AD$14="",$E24=""),"",AC24)
AC26: =IF(OR(AC$14="",$E26=""),"",AB26) | AD26: =IF(OR(AD$14="",$E26=""),"",AC26)
AC27: =IF(OR(AC$14="",$E27=""),"",AB27) | AD27: =IF(OR(AD$14="",$E27=""),"",AC27)
AC28: =IF(OR(AC$14="",$E28=""),"",AB28) | AD28: =IF(OR(AD$14="",$E28=""),"",AC28)
AC29: =IF(OR(AC$14="",$E29=""),"",AB29) | AD29: =IF(OR(AD$14="",$E29=""),"",AC29)
AC30: =IF(OR(AC$14="",$E30=""),"",AB30) | AD30: =IF(OR(AD$14="",$E30=""),"",AC30)
AC31: =IF(OR(AC$14="",$E31=""),"",AB31) | AD31: =IF(OR(AD$14="",$E31=""),"",AC31)
... AC40: =IF(OR(AC$14="",$E40=""),"",AB40) | AD40: =IF(OR(AD$14="",$E40=""),"",AC40)
D41: =IF(A41<>"","Planned","") | F41: =IF(OR(F$14="",$E41=""),"",E41) | AC41: =IF(OR(AC$14="",$E41=""),"",AB41) | AD41: =IF(OR(AD$14="",$E41=""),"",AC41)
D42: =IF(A42<>"","Planned","") | F42: =IF(OR(F$14="",$E42=""),"",E42) | AC42: =IF(OR(AC$14="",$E42=""),"",AB42) | AD42: =IF(OR(AD$14="",$E42=""),"",AC42)
D43: =IF(A43<>"","Planned","") | F43: =IF(OR(F$14="",$E43=""),"",E43) | AC43: =IF(OR(AC$14="",$E43=""),"",AB43) | AD43: =IF(OR(AD$14="",$E43=""),"",AC43)
D44: =IF(A44<>"","Planned","") | F44: =IF(OR(F$14="",$E44=""),"",E44) | AC44: =IF(OR(AC$14="",$E44=""),"",AB44) | AD44: =IF(OR(AD$14="",$E44=""),"",AC44)
D45: =IF(A45<>"","Planned","") | F45: =IF(OR(F$14="",$E45=""),"",E45) | AC45: =IF(OR(AC$14="",$E45=""),"",AB45) | AD45: =IF(OR(AD$14="",$E45=""),"",AC45)
D46: =IF(A46<>"","Planned","") | F46: =IF(OR(F$14="",$E46=""),"",E46) | AC46: =IF(OR(AC$14="",$E46=""),"",AB46) | AD46: =IF(OR(AD$14="",$E46=""),"",AC46)
D47: =IF(A47<>"","Planned","") | F47: =IF(OR(F$14="",$E47=""),"",E47) | AC47: =IF(OR(AC$14="",$E47=""),"",AB47) | AD47: =IF(OR(AD$14="",$E47=""),"",AC47)
D48: =IF(A48<>"","Planned","") | F48: =IF(OR(F$14="",$E48=""),"",E48) | AC48: =IF(OR(AC$14="",$E48=""),"",AB48) | AD48: =IF(OR(AD$14="",$E48=""),"",AC48)
D49: =IF(A49<>"","Planned","") | F49: =IF(OR(F$14="",$E49=""),"",E49) | AC49: =IF(OR(AC$14="",$E49=""),"",AB49) | AD49: =IF(OR(AD$14="",$E49=""),"",AC49)
D50: =IF(A50<>"","Planned","") | F50: =IF(OR(F$14="",$E50=""),"",E50) | AC50: =IF(OR(AC$14="",$E50=""),"",AB50) | AD50: =IF(OR(AD$14="",$E50=""),"",AC50)
D51: =IF(A51<>"","Planned","") | F51: =IF(OR(F$14="",$E51=""),"",E51) | AC51: =IF(OR(AC$14="",$E51=""),"",AB51) | AD51: =IF(OR(AD$14="",$E51=""),"",AC51)
D52: =IF(A52<>"","Planned","") | F52: =IF(OR(F$14="",$E52=""),"",E52) | AC52: =IF(OR(AC$14="",$E52=""),"",AB52) | AD52: =IF(OR(AD$14="",$E52=""),"",AC52)
... D61: =IF(A61<>"","Planned","") | F61: =IF(OR(F$14="",$E61=""),"",E61) | AC61: =IF(OR(AC$14="",$E61=""),"",AB61) | AD61: =IF(OR(AD$14="",$E61=""),"",AC61)
D62: =IF(A62<>"","Planned","") | F62: =IF(OR(F$14="",$E62=""),"",E62) | G62: =IF(OR(G$14="",$E62=""),"",F62) | H62: =IF(OR(H$14="",$E62=""),"",G62) | I62: =IF(OR(I$14="",$E62=""),"",H62) | J62: =IF(OR(J$14="",$E62=""),"",I62) | K62: =IF(OR(K$14="",$E62=""),"",J62) | L62: =IF(OR(L$14="",$E62=""),"",K62) | M62: =IF(OR(M$14="",$E62=""),"",L62) | ... AD62: =IF(OR(AD$14="",$E62=""),"",AC62)
D63: =IF(A63<>"","Planned","") | F63: =IF(OR(F$14="",$E63=""),"",E63) | G63: =IF(OR(G$14="",$E63=""),"",F63) | H63: =IF(OR(H$14="",$E63=""),"",G63) | I63: =IF(OR(I$14="",$E63=""),"",H63) | J63: =IF(OR(J$14="",$E63=""),"",I63) | K63: =IF(OR(K$14="",$E63=""),"",J63) | L63: =IF(OR(L$14="",$E63=""),"",K63) | M63: =IF(OR(M$14="",$E63=""),"",L63) | ... AD63: =IF(OR(AD$14="",$E63=""),"",AC63)
D64: =IF(A64<>"","Planned","")

Sheet Sp2
A1: 2
A9: Sprint implementation days | B9: 13 | E9: Effort | F9: Remaining on implementation day…
A10: Trend calculated based on last | B10: 5 | C10: Days | D10: Totals | E10: =SUM(OFFSET(E14,1,0,$B$11,1)) -> 12 | F10: =IF(AND(SUM(OFFSET(F14,1,0,$B$11,1))=0),0,SUM(OFFSET(F14,1,0,$B$11,1))) -> 12 | G10: =IF(AND(SUM(OFFSET(G14,1,0,$B$11,1))=0),"",SUM(OFFSET(G14,1,0,$B$11,1))) -> 9 | H10: =IF(AND(SUM(OFFSET(H14,1,0,$B$11,1))=0),"",SUM(OFFSET(H14,1,0,$B$11,1))) -> 2 | I10: =IF(AND(SUM(OFFSET(I14,1,0,$B$11,1))=0),"",SUM(OFFSET(I14,1,0,$B$11,1))) -> 2 | J10: =IF(AND(SUM(OFFSET(J14,1,0,$B$11,1))=0),"",SUM(OFFSET(J14,1,0,$B$11,1))) | K10: =IF(AND(SUM(OFFSET(K14,1,0,$B$11,1))=0),"",SUM(OFFSET(K14,1,0,$B$11,1))) | L10: =IF(AND(SUM(OFFSET(L14,1,0,$B$11,1))=0),"",SUM(OFFSET(L14,1,0,$B$11,1))) | M10: =IF(AND(SUM(OFFSET(M14,1,0,$B$11,1))=0),"",SUM(OFFSET(M14,1,0,$B$11,1))) | N10: =IF(AND(SUM(OFFSET(N14,1,0,$B$11,1))=0),"",SUM(OFFSET(N14,1,0,$B$11,1))) | ... AD10: =IF(AND(SUM(OFFSET(AD14,1,0,$B$11,1))=0),"",SUM(OFFSET(AD14,1,0,$B$11,1)))
A11: Task rows | B11: =IF(COUNTA(A15:A242)=0,1,COUNTA(A15:A242)) -> 2 | C11: Done days | D11: =IF(COUNTIF(F10:AD10,">0")=0,1,COUNTIF(F10:AD10,">0")) -> 4 | F11: =IF(F14="","",$E10-$E10/($B9-1)*(F14-1)) -> 12 | G11: =IF(G14="","",$E$10-$E$10/($B$9)*(G14-1)) -> 11.076923 | H11: =IF(H14="","",$E$10-$E$10/($B$9)*(H14-1)) -> 10.153846 | I11: =IF(I14="","",$E$10-$E$10/($B$9)*(I14-1)) -> 9.2307692 | J11: =IF(J14="","",$E$10-$E$10/($B$9)*(J14-1)) -> 8.3076923 | K11: =IF(K14="","",$E$10-$E$10/($B$9)*(K14-1)) -> 7.3846154 | L11: =IF(L14="","",$E$10-$E$10/($B$9)*(L14-1)) -> 6.4615385 | M11: =IF(M14="","",$E$10-$E$10/($B$9)*(M14-1)) -> 5.5384615 | N11: =IF(N14="","",$E$10-$E$10/($B$9)*(N14-1)) -> 4.6153846 | ... AD11: =IF(AD14="","",$E$10-$E$10/($B$9)*(AD14-1))
A12: Warning! These are necessary | C12: Trend | F12: 11.8 | G12: 8.1 | H12: 4.4 | I12: 0.7
A13: template rows | C13: Trend Days | D13: =IF($D$11>B10,B10,$D$11) -> 4 | F13: =IF($D$11>E13,E13+1,"") -> 1 | G13: 2 | H13: 3 | I13: 4 | J13: 5 | K13: 6 | L13: 7 | M13: 8 | N13: 9 | O13: 10 | P13: 11 | Q13: 12 | R13: 13 | S13: 14 | T13: 15 | U13: 16 | V13: 17 | W13: 18 | X13: 19 | Y13: 20 | Z13: 21 | AA13: 22 | AB13: 23 | AC13: 24 | AD13: 25
A14: Task name | B14: Story ID | C14: Responsible | D14: Status | E14: Est. | F14: 1 | G14: =IF($B$9>F14,F14+1,"") -> 2 | H14: =IF($B$9>G14,G14+1,"") -> 3 | I14: =IF($B$9>H14,H14+1,"") -> 4 | J14: =IF($B$9>I14,I14+1,"") -> 5 | K14: =IF($B$9>J14,J14+1,"") -> 6 | L14: =IF($B$9>K14,K14+1,"") -> 7 | M14: =IF($B$9>L14,L14+1,"") -> 8 | N14: =IF($B$9>M14,M14+1,"") -> 9 | ... AD14: =IF($B$9>AC14,AC14+1,"")
A15: Create draft high level architecture | B15: 2 | C15: Mike | D15: Done | E15: 5 | F15: =IF(OR(F$14="",$E15=""),"",E15) -> 5 | G15: 2 | H15: 0
A16: Write primary flow/activity diagrams | B16: 2 | C16: Team | D16: Done | E16: 7 | F16: =IF(OR(F$14="",$E16=""),"",E16) -> 7 | G16: 7 | H16: 2 | I16: 2 | AC16: =IF(OR(AC$14="",$E16=""),"",AB16) | AD16: =IF(OR(AD$14="",$E16=""),"",AC16)
D17: =IF(A17<>"","Planned","") | F17: =IF(OR(F$14="",$E17=""),"",E17) | AC17: =IF(OR(AC$14="",$E17=""),"",AB17) | AD17: =IF(OR(AD$14="",$E17=""),"",AC17)
D18: =IF(A18<>"","Planned","") | F18: =IF(OR(F$14="",$E18=""),"",E18) | AC18: =IF(OR(AC$14="",$E18=""),"",AB18) | AD18: =IF(OR(AD$14="",$E18=""),"",AC18)
D19: =IF(A19<>"","Planned","") | F19: =IF(OR(F$14="",$E19=""),"",E19) | AC19: =IF(OR(AC$14="",$E19=""),"",AB19) | AD19: =IF(OR(AD$14="",$E19=""),"",AC19)
D20: =IF(A20<>"","Planned","") | F20: =IF(OR(F$14="",$E20=""),"",E20) | AC20: =IF(OR(AC$14="",$E20=""),"",AB20) | AD20: =IF(OR(AD$14="",$E20=""),"",AC20)
D21: =IF(A21<>"","Planned","") | F21: =IF(OR(F$14="",$E21=""),"",E21) | AC21: =IF(OR(AC$14="",$E21=""),"",AB21) | AD21: =IF(OR(AD$14="",$E21=""),"",AC21)
D22: =IF(A22<>"","Planned","") | F22: =IF(OR(F$14="",$E22=""),"",E22) | AC22: =IF(OR(AC$14="",$E22=""),"",AB22) | AD22: =IF(OR(AD$14="",$E22=""),"",AC22)
D23: =IF(A23<>"","Planned","") | F23: =IF(OR(F$14="",$E23=""),"",E23) | AC23: =IF(OR(AC$14="",$E23=""),"",AB23) | AD23: =IF(OR(AD$14="",$E23=""),"",AC23)
D24: =IF(A24<>"","Planned","") | F24: =IF(OR(F$14="",$E24=""),"",E24) | AC24: =IF(OR(AC$14="",$E24=""),"",AB24) | AD24: =IF(OR(AD$14="",$E24=""),"",AC24)
D25: =IF(A25<>"","Planned","") | F25: =IF(OR(F$14="",$E25=""),"",E25) | AC25: =IF(OR(AC$14="",$E25=""),"",AB25) | AD25: =IF(OR(AD$14="",$E25=""),"",AC25)
D26: =IF(A26<>"","Planned","") | F26: =IF(OR(F$14="",$E26=""),"",E26) | AC26: =IF(OR(AC$14="",$E26=""),"",AB26) | AD26: =IF(OR(AD$14="",$E26=""),"",AC26)
D27: =IF(A27<>"","Planned","") | F27: =IF(OR(F$14="",$E27=""),"",E27) | AC27: =IF(OR(AC$14="",$E27=""),"",AB27) | AD27: =IF(OR(AD$14="",$E27=""),"",AC27)
D28: =IF(A28<>"","Planned","") | F28: =IF(OR(F$14="",$E28=""),"",E28) | AC28: =IF(OR(AC$14="",$E28=""),"",AB28) | AD28: =IF(OR(AD$14="",$E28=""),"",AC28)
... D57: =IF(A57<>"","Planned","") | F57: =IF(OR(F$14="",$E57=""),"",E57) | AC57: =IF(OR(AC$14="",$E57=""),"",AB57) | AD57: =IF(OR(AD$14="",$E57=""),"",AC57)
D58: =IF(A58<>"","Planned","") | F58: =IF(OR(F$14="",$E58=""),"",E58) | G58: =IF(OR(G$14="",$E58=""),"",F58) | H58: =IF(OR(H$14="",$E58=""),"",G58) | I58: =IF(OR(I$14="",$E58=""),"",H58) | J58: =IF(OR(J$14="",$E58=""),"",I58) | K58: =IF(OR(K$14="",$E58=""),"",J58) | L58: =IF(OR(L$14="",$E58=""),"",K58) | M58: =IF(OR(M$14="",$E58=""),"",L58) | ... AD58: =IF(OR(AD$14="",$E58=""),"",AC58)
D59: =IF(A59<>"","Planned","") | F59: =IF(OR(F$14="",$E59=""),"",E59) | G59: =IF(OR(G$14="",$E59=""),"",F59) | H59: =IF(OR(H$14="",$E59=""),"",G59) | I59: =IF(OR(I$14="",$E59=""),"",H59) | J59: =IF(OR(J$14="",$E59=""),"",I59) | K59: =IF(OR(K$14="",$E59=""),"",J59) | L59: =IF(OR(L$14="",$E59=""),"",K59) | M59: =IF(OR(M$14="",$E59=""),"",L59) | ... AD59: =IF(OR(AD$14="",$E59=""),"",AC59)
D64: =IF(A64<>"","Planned","")

Sheet Sp3
A1: 3
A9: Sprint implementation in weeks | B9: 2 | E9: Effort | F9: Remaining on implementation day…
A10: Trend calculated based on last | B10: 5 | C10: Days | D10: Totals | E10: =SUM(OFFSET(E14,1,0,$B$11,1)) -> 20 | F10: =IF(AND(SUM(OFFSET(F14,1,0,$B$11,1))=0),0,SUM(OFFSET(F14,1,0,$B$11,1))) -> 20 | G10: =IF(AND(SUM(OFFSET(G14,1,0,$B$11,1))=0),"",SUM(OFFSET(G14,1,0,$B$11,1))) -> 8 | H10: =IF(AND(SUM(OFFSET(H14,1,0,$B$11,1))=0),"",SUM(OFFSET(H14,1,0,$B$11,1))) | I10: =IF(AND(SUM(OFFSET(I14,1,0,$B$11,1))=0),"",SUM(OFFSET(I14,1,0,$B$11,1))) | J10: =IF(AND(SUM(OFFSET(J14,1,0,$B$11,1))=0),"",SUM(OFFSET(J14,1,0,$B$11,1))) | K10: =IF(AND(SUM(OFFSET(K14,1,0,$B$11,1))=0),"",SUM(OFFSET(K14,1,0,$B$11,1))) | L10: =IF(AND(SUM(OFFSET(L14,1,0,$B$11,1))=0),"",SUM(OFFSET(L14,1,0,$B$11,1))) | M10: =IF(AND(SUM(OFFSET(M14,1,0,$B$11,1))=0),"",SUM(OFFSET(M14,1,0,$B$11,1))) | N10: =IF(AND(SUM(OFFSET(N14,1,0,$B$11,1))=0),"",SUM(OFFSET(N14,1,0,$B$11,1))) | ... AD10: =IF(AND(SUM(OFFSET(AD14,1,0,$B$11,1))=0),"",SUM(OFFSET(AD14,1,0,$B$11,1)))
A11: Task rows | B11: =IF(COUNTA(A15:A242)=0,1,COUNTA(A15:A242)) -> 8 | C11: Done days | D11: =IF(COUNTIF(F10:AD10,">0")=0,1,COUNTIF(F10:AD10,">0")) -> 2 | F11: =IF(F14="","",$E10-$E10/($B9-1)*(F14-1)) -> 20 | G11: =IF(G14="","",$E$10-$E$10/($B$9)*(G14-1)) -> 10 | H11: =IF(H14="","",$E$10-$E$10/($B$9)*(H14-1)) | I11: =IF(I14="","",$E$10-$E$10/($B$9)*(I14-1)) | J11: =IF(J14="","",$E$10-$E$10/($B$9)*(J14-1)) | K11: =IF(K14="","",$E$10-$E$10/($B$9)*(K14-1)) | L11: =IF(L14="","",$E$10-$E$10/($B$9)*(L14-1)) | M11: =IF(M14="","",$E$10-$E$10/($B$9)*(M14-1)) | N11: =IF(N14="","",$E$10-$E$10/($B$9)*(N14-1)) | ... AD11: =IF(AD14="","",$E$10-$E$10/($B$9)*(AD14-1))
A12: Warning! These are necessary | C12: Trend | F12: 20 | G12: 8
A13: template rows | C13: Trend Days | D13: =IF($D$11>B10,B10,$D$11) -> 2 | F13: =IF($D$11>E13,E13+1,"") -> 1 | G13: 2 | H13: 3 | I13: 4 | J13: 5 | K13: 6 | L13: 7 | M13: 8 | N13: 9 | O13: 10 | P13: 11 | Q13: 12 | R13: 13 | S13: 14 | T13: 15 | U13: 16 | V13: 17 | W13: 18 | X13: 19 | Y13: 20 | Z13: 21 | AA13: 22 | AB13: 23 | AC13: 24 | AD13: 25
A14: Task name | B14: Story ID | C14: Responsible | D14: Status | E14: Est. | F14: 1 | G14: =IF($B$9>F14,F14+1,"") -> 2 | H14: =IF($B$9>G14,G14+1,"") | I14: =IF($B$9>H14,H14+1,"") | J14: =IF($B$9>I14,I14+1,"") | K14: =IF($B$9>J14,J14+1,"") | L14: =IF($B$9>K14,K14+1,"") | M14: =IF($B$9>L14,L14+1,"") | N14: =IF($B$9>M14,M14+1,"") | ... AD14: =IF($B$9>AC14,AC14+1,"")
A15: Architecture document | B15: 1 | C15: Mike | D15: Done | E15: 5 | F15: =IF(OR(F$14="",$E15=""),"",E15) -> 5 | G15: 2 | H15: 0
A16: Class diagram | B16: 5 | C16: Chris | D16: Ongoing | E16: 5 | F16: =IF(OR(F$14="",$E16=""),"",E16) -> 5 | G16: 2 | H16: 0
A17: Metrics document | B17: 3 | C17: Dan | D17: Ongoing | E17: 5 | F17: =IF(OR(F$14="",$E17=""),"",E17) -> 5 | G17: 2 | H17: 0
A18: Use case document | B18: 2 | C18: Juan | D18: Ongoing | E18: 5 | F18: =IF(OR(F$14="",$E18=""),"",E18) -> 5 | G18: 2 | H18: 0
A19: Presentation | B19: 7 | C19: Mike | D19: Done | F19: =IF(OR(F$14="",$E19=""),"",E19) | AC19: =IF(OR(AC$14="",$E19=""),"",AB19) | AD19: =IF(OR(AD$14="",$E19=""),"",AC19)
A20: Presentation | B20: 7 | C20: Dan | D20: Done | F20: =IF(OR(F$14="",$E20=""),"",E20) | AC20: =IF(OR(AC$14="",$E20=""),"",AB20) | AD20: =IF(OR(AD$14="",$E20=""),"",AC20)
A21: Presentation | B21: 7 | C21: Chris | D21: Done | F21: =IF(OR(F$14="",$E21=""),"",E21) | AC21: =IF(OR(AC$14="",$E21=""),"",AB21) | AD21: =IF(OR(AD$14="",$E21=""),"",AC21)
A22: Presentation | B22: 7 | C22: Juan | D22: Done | F22: =IF(OR(F$14="",$E22=""),"",E22) | AC22: =IF(OR(AC$14="",$E22=""),"",AB22) | AD22: =IF(OR(AD$14="",$E22=""),"",AC22)
D23: =IF(A23<>"","Planned","") | F23: =IF(OR(F$14="",$E23=""),"",E23) | AC23: =IF(OR(AC$14="",$E23=""),"",AB23) | AD23: =IF(OR(AD$14="",$E23=""),"",AC23)
D24: =IF(A24<>"","Planned","") | F24: =IF(OR(F$14="",$E24=""),"",E24) | AC24: =IF(OR(AC$14="",$E24=""),"",AB24) | AD24: =IF(OR(AD$14="",$E24=""),"",AC24)
D25: =IF(A25<>"","Planned","") | F25: =IF(OR(F$14="",$E25=""),"",E25) | AC25: =IF(OR(AC$14="",$E25=""),"",AB25) | AD25: =IF(OR(AD$14="",$E25=""),"",AC25)
D26: =IF(A26<>"","Planned","") | F26: =IF(OR(F$14="",$E26=""),"",E26) | AC26: =IF(OR(AC$14="",$E26=""),"",AB26) | AD26: =IF(OR(AD$14="",$E26=""),"",AC26)
D27: =IF(A27<>"","Planned","") | F27: =IF(OR(F$14="",$E27=""),"",E27) | AC27: =IF(OR(AC$14="",$E27=""),"",AB27) | AD27: =IF(OR(AD$14="",$E27=""),"",AC27)
D28: =IF(A28<>"","Planned","") | F28: =IF(OR(F$14="",$E28=""),"",E28) | AC28: =IF(OR(AC$14="",$E28=""),"",AB28) | AD28: =IF(OR(AD$14="",$E28=""),"",AC28)
D29: =IF(A29<>"","Planned","") | F29: =IF(OR(F$14="",$E29=""),"",E29) | AC29: =IF(OR(AC$14="",$E29=""),"",AB29) | AD29: =IF(OR(AD$14="",$E29=""),"",AC29)
D30: =IF(A30<>"","Planned","") | F30: =IF(OR(F$14="",$E30=""),"",E30) | AC30: =IF(OR(AC$14="",$E30=""),"",AB30) | AD30: =IF(OR(AD$14="",$E30=""),"",AC30)
D31: =IF(A31<>"","Planned","") | F31: =IF(OR(F$14="",$E31=""),"",E31) | AC31: =IF(OR(AC$14="",$E31=""),"",AB31) | AD31: =IF(OR(AD$14="",$E31=""),"",AC31)
D32: =IF(A32<>"","Planned","") | F32: =IF(OR(F$14="",$E32=""),"",E32) | AC32: =IF(OR(AC$14="",$E32=""),"",AB32) | AD32: =IF(OR(AD$14="",$E32=""),"",AC32)
D33: =IF(A33<>"","Planned","") | F33: =IF(OR(F$14="",$E33=""),"",E33) | AC33: =IF(OR(AC$14="",$E33=""),"",AB33) | AD33: =IF(OR(AD$14="",$E33=""),"",AC33)
D34: =IF(A34<>"","Planned","") | F34: =IF(OR(F$14="",$E34=""),"",E34) | AC34: =IF(OR(AC$14="",$E34=""),"",AB34) | AD34: =IF(OR(AD$14="",$E34=""),"",AC34)
... D57: =IF(A57<>"","Planned","") | F57: =IF(OR(F$14="",$E57=""),"",E57) | AC57: =IF(OR(AC$14="",$E57=""),"",AB57) | AD57: =IF(OR(AD$14="",$E57=""),"",AC57)
D58: =IF(A58<>"","Planned","") | F58: =IF(OR(F$14="",$E58=""),"",E58) | G58: =IF(OR(G$14="",$E58=""),"",F58) | H58: =IF(OR(H$14="",$E58=""),"",G58) | I58: =IF(OR(I$14="",$E58=""),"",H58) | J58: =IF(OR(J$14="",$E58=""),"",I58) | K58: =IF(OR(K$14="",$E58=""),"",J58) | L58: =IF(OR(L$14="",$E58=""),"",K58) | M58: =IF(OR(M$14="",$E58=""),"",L58) | ... AD58: =IF(OR(AD$14="",$E58=""),"",AC58)
D59: =IF(A59<>"","Planned","") | F59: =IF(OR(F$14="",$E59=""),"",E59) | G59: =IF(OR(G$14="",$E59=""),"",F59) | H59: =IF(OR(H$14="",$E59=""),"",G59) | I59: =IF(OR(I$14="",$E59=""),"",H59) | J59: =IF(OR(J$14="",$E59=""),"",I59) | K59: =IF(OR(K$14="",$E59=""),"",J59) | L59: =IF(OR(L$14="",$E59=""),"",K59) | M59: =IF(OR(M$14="",$E59=""),"",L59) | ... AD59: =IF(OR(AD$14="",$E59=""),"",AC59)
D64: =IF(A64<>"","Planned","")

Sheet Sp4
A1: 1
A9: Sprint implementation days | B9: 5 | E9: Effort | F9: Remaining on implementation day…
A10: Trend calculated based on last | B10: 5 | C10: Days | D10: Totals | E10: =SUM(OFFSET(E14,1,0,$B$11,1)) -> 0 | F10: =IF(AND(SUM(OFFSET(F14,1,0,$B$11,1))=0),0,SUM(OFFSET(F14,1,0,$B$11,1))) -> 0 | G10: =IF(AND(SUM(OFFSET(G14,1,0,$B$11,1))=0),"",SUM(OFFSET(G14,1,0,$B$11,1))) | H10: =IF(AND(SUM(OFFSET(H14,1,0,$B$11,1))=0),"",SUM(OFFSET(H14,1,0,$B$11,1))) | I10: =IF(AND(SUM(OFFSET(I14,1,0,$B$11,1))=0),"",SUM(OFFSET(I14,1,0,$B$11,1))) | J10: =IF(AND(SUM(OFFSET(J14,1,0,$B$11,1))=0),"",SUM(OFFSET(J14,1,0,$B$11,1))) | K10: =IF(AND(SUM(OFFSET(K14,1,0,$B$11,1))=0),"",SUM(OFFSET(K14,1,0,$B$11,1))) | L10: =IF(AND(SUM(OFFSET(L14,1,0,$B$11,1))=0),"",SUM(OFFSET(L14,1,0,$B$11,1))) | M10: =IF(AND(SUM(OFFSET(M14,1,0,$B$11,1))=0),"",SUM(OFFSET(M14,1,0,$B$11,1))) | N10: =IF(AND(SUM(OFFSET(N14,1,0,$B$11,1))=0),"",SUM(OFFSET(N14,1,0,$B$11,1))) | ... AD10: =IF(AND(SUM(OFFSET(AD14,1,0,$B$11,1))=0),"",SUM(OFFSET(AD14,1,0,$B$11,1)))
A11: Task rows | B11: =IF(COUNTA(A15:A242)=0,1,COUNTA(A15:A242)) -> 4 | C11: Done days | D11: =IF(COUNTIF(F10:AD10,">0")=0,1,COUNTIF(F10:AD10,">0")) -> 1 | F11: =IF(F14="","",$E10-$E10/($B9-1)*(F14-1)) -> 0 | G11: =IF(G14="","",$E$10-$E$10/($B$9)*(G14-1)) -> 0 | H11: =IF(H14="","",$E$10-$E$10/($B$9)*(H14-1)) -> 0 | I11: =IF(I14="","",$E$10-$E$10/($B$9)*(I14-1)) -> 0 | J11: =IF(J14="","",$E$10-$E$10/($B$9)*(J14-1)) -> 0 | K11: =IF(K14="","",$E$10-$E$10/($B$9)*(K14-1)) | L11: =IF(L14="","",$E$10-$E$10/($B$9)*(L14-1)) | M11: =IF(M14="","",$E$10-$E$10/($B$9)*(M14-1)) | N11: =IF(N14="","",$E$10-$E$10/($B$9)*(N14-1)) | ... AD11: =IF(AD14="","",$E$10-$E$10/($B$9)*(AD14-1))
A12: Warning! These are necessary | C12: Trend | F12: 0 | G12: 0 | H12: 0 | I12: 0 | J12: 0 | K12: 0 | L12: 0 | M12: 0 | N12: 0 | O12: 0 | P12: 0 | Q12: 0 | R12: 0 | S12: 0 | T12: 0 | U12: 0 | V12: 0 | W12: 0 | X12: 0 | Y12: 0 | Z12: 0 | AA12: 0 | AB12: 0 | AC12: 0 | AD12: 0
A13: template rows | C13: Trend Days | D13: =IF($D$11>B10,B10,$D$11) -> 1 | F13: =IF($D$11>E13,E13+1,"") -> 1 | G13: 2 | H13: 3 | I13: 4 | J13: 5 | K13: 6 | L13: 7 | M13: 8 | N13: 9 | O13: 10 | P13: 11 | Q13: 12 | R13: 13 | S13: 14 | T13: 15 | U13: 16 | V13: 17 | W13: 18 | X13: 19 | Y13: 20 | Z13: 21 | AA13: 22 | AB13: 23 | AC13: 24 | AD13: 25
A14: Task name | B14: Story ID | C14: Responsible | D14: Status | E14: Est. | F14: 1 | G14: =IF($B$9>F14,F14+1,"") -> 2 | H14: =IF($B$9>G14,G14+1,"") -> 3 | I14: =IF($B$9>H14,H14+1,"") -> 4 | J14: =IF($B$9>I14,I14+1,"") -> 5 | K14: =IF($B$9>J14,J14+1,"") | L14: =IF($B$9>K14,K14+1,"") | M14: =IF($B$9>L14,L14+1,"") | N14: =IF($B$9>M14,M14+1,"") | ... AD14: =IF($B$9>AC14,AC14+1,"")
A15: Use cases | B15: 2 | C15: Team | D15: Ongoing | F15: =IF(OR(F$14="",$E15=""),"",E15)
A16: Testing document | B16: 8 | C16: Chris | D16: Ongoing | F16: =IF(OR(F$14="",$E16=""),"",E16) | AC16: =IF(OR(AC$14="",$E16=""),"",AB16) | AD16: =IF(OR(AD$14="",$E16=""),"",AC16)
A17: Metrics | B17: 3 | C17: Dan | D17: Ongoing | F17: =IF(OR(F$14="",$E17=""),"",E17) | AC17: =IF(OR(AC$14="",$E17=""),"",AB17) | AD17: =IF(OR(AD$14="",$E17=""),"",AC17)
A18: Update website | B18: 7 | C18: Mike | D18: Ongoing | F18: =IF(OR(F$14="",$E18=""),"",E18) | AC18: =IF(OR(AC$14="",$E18=""),"",AB18) | AD18: =IF(OR(AD$14="",$E18=""),"",AC18)
D19: =IF(A19<>"","Planned","") | F19: =IF(OR(F$14="",$E19=""),"",E19) | AC19: =IF(OR(AC$14="",$E19=""),"",AB19) | AD19: =IF(OR(AD$14="",$E19=""),"",AC19)
D20: =IF(A20<>"","Planned","") | F20: =IF(OR(F$14="",$E20=""),"",E20) | AC20: =IF(OR(AC$14="",$E20=""),"",AB20) | AD20: =IF(OR(AD$14="",$E20=""),"",AC20)
D21: =IF(A21<>"","Planned","") | F21: =IF(OR(F$14="",$E21=""),"",E21) | AC21: =IF(OR(AC$14="",$E21=""),"",AB21) | AD21: =IF(OR(AD$14="",$E21=""),"",AC21)
D22: =IF(A22<>"","Planned","") | F22: =IF(OR(F$14="",$E22=""),"",E22) | AC22: =IF(OR(AC$14="",$E22=""),"",AB22) | AD22: =IF(OR(AD$14="",$E22=""),"",AC22)
D23: =IF(A23<>"","Planned","") | F23: =IF(OR(F$14="",$E23=""),"",E23) | AC23: =IF(OR(AC$14="",$E23=""),"",AB23) | AD23: =IF(OR(AD$14="",$E23=""),"",AC23)
D24: =IF(A24<>"","Planned","") | F24: =IF(OR(F$14="",$E24=""),"",E24) | AC24: =IF(OR(AC$14="",$E24=""),"",AB24) | AD24: =IF(OR(AD$14="",$E24=""),"",AC24)
D25: =IF(A25<>"","Planned","") | F25: =IF(OR(F$14="",$E25=""),"",E25) | AC25: =IF(OR(AC$14="",$E25=""),"",AB25) | AD25: =IF(OR(AD$14="",$E25=""),"",AC25)
D26: =IF(A26<>"","Planned","") | F26: =IF(OR(F$14="",$E26=""),"",E26) | AC26: =IF(OR(AC$14="",$E26=""),"",AB26) | AD26: =IF(OR(AD$14="",$E26=""),"",AC26)
D27: =IF(A27<>"","Planned","") | F27: =IF(OR(F$14="",$E27=""),"",E27) | AC27: =IF(OR(AC$14="",$E27=""),"",AB27) | AD27: =IF(OR(AD$14="",$E27=""),"",AC27)
D28: =IF(A28<>"","Planned","") | F28: =IF(OR(F$14="",$E28=""),"",E28) | AC28: =IF(OR(AC$14="",$E28=""),"",AB28) | AD28: =IF(OR(AD$14="",$E28=""),"",AC28)
D29: =IF(A29<>"","Planned","") | F29: =IF(OR(F$14="",$E29=""),"",E29) | AC29: =IF(OR(AC$14="",$E29=""),"",AB29) | AD29: =IF(OR(AD$14="",$E29=""),"",AC29)
D30: =IF(A30<>"","Planned","") | F30: =IF(OR(F$14="",$E30=""),"",E30) | AC30: =IF(OR(AC$14="",$E30=""),"",AB30) | AD30: =IF(OR(AD$14="",$E30=""),"",AC30)
... D57: =IF(A57<>"","Planned","") | F57: =IF(OR(F$14="",$E57=""),"",E57) | AC57: =IF(OR(AC$14="",$E57=""),"",AB57) | AD57: =IF(OR(AD$14="",$E57=""),"",AC57)
D58: =IF(A58<>"","Planned","") | F58: =IF(OR(F$14="",$E58=""),"",E58) | G58: =IF(OR(G$14="",$E58=""),"",F58) | H58: =IF(OR(H$14="",$E58=""),"",G58) | I58: =IF(OR(I$14="",$E58=""),"",H58) | J58: =IF(OR(J$14="",$E58=""),"",I58) | K58: =IF(OR(K$14="",$E58=""),"",J58) | L58: =IF(OR(L$14="",$E58=""),"",K58) | M58: =IF(OR(M$14="",$E58=""),"",L58) | ... AD58: =IF(OR(AD$14="",$E58=""),"",AC58)
D59: =IF(A59<>"","Planned","") | F59: =IF(OR(F$14="",$E59=""),"",E59) | G59: =IF(OR(G$14="",$E59=""),"",F59) | H59: =IF(OR(H$14="",$E59=""),"",G59) | I59: =IF(OR(I$14="",$E59=""),"",H59) | J59: =IF(OR(J$14="",$E59=""),"",I59) | K59: =IF(OR(K$14="",$E59=""),"",J59) | L59: =IF(OR(L$14="",$E59=""),"",K59) | M59: =IF(OR(M$14="",$E59=""),"",L59) | ... AD59: =IF(OR(AD$14="",$E59=""),"",AC59)
D64: =IF(A64<>"","Planned","")

Sheet Sp5
A1: 1
A9: Sprint implementation weeks | B9: 3 | E9: Effort | F9: Remaining on implementation week…
A10: Trend calculated based on last | B10: 5 | C10: Days | D10: Totals | E10: =SUM(OFFSET(E14,1,0,$B$11,1)) -> 0 | F10: =IF(AND(SUM(OFFSET(F14,1,0,$B$11,1))=0),0,SUM(OFFSET(F14,1,0,$B$11,1))) -> 0 | G10: =IF(AND(SUM(OFFSET(G14,1,0,$B$11,1))=0),"",SUM(OFFSET(G14,1,0,$B$11,1))) | H10: =IF(AND(SUM(OFFSET(H14,1,0,$B$11,1))=0),"",SUM(OFFSET(H14,1,0,$B$11,1))) | I10: =IF(AND(SUM(OFFSET(I14,1,0,$B$11,1))=0),"",SUM(OFFSET(I14,1,0,$B$11,1))) | J10: =IF(AND(SUM(OFFSET(J14,1,0,$B$11,1))=0),"",SUM(OFFSET(J14,1,0,$B$11,1))) | K10: =IF(AND(SUM(OFFSET(K14,1,0,$B$11,1))=0),"",SUM(OFFSET(K14,1,0,$B$11,1))) | L10: =IF(AND(SUM(OFFSET(L14,1,0,$B$11,1))=0),"",SUM(OFFSET(L14,1,0,$B$11,1))) | M10: =IF(AND(SUM(OFFSET(M14,1,0,$B$11,1))=0),"",SUM(OFFSET(M14,1,0,$B$11,1))) | N10: =IF(AND(SUM(OFFSET(N14,1,0,$B$11,1))=0),"",SUM(OFFSET(N14,1,0,$B$11,1))) | ... AD10: =IF(AND(SUM(OFFSET(AD14,1,0,$B$11,1))=0),"",SUM(OFFSET(AD14,1,0,$B$11,1)))
A11: Task rows | B11: =IF(COUNTA(A15:A242)=0,1,COUNTA(A15:A242)) -> 19 | C11: Done days | D11: =IF(COUNTIF(F10:AD10,">0")=0,1,COUNTIF(F10:AD10,">0")) -> 1 | F11: =IF(F14="","",$E10-$E10/($B9-1)*(F14-1)) -> 0 | G11: =IF(G14="","",$E$10-$E$10/($B$9)*(G14-1)) -> 0 | H11: =IF(H14="","",$E$10-$E$10/($B$9)*(H14-1)) -> 0 | I11: =IF(I14="","",$E$10-$E$10/($B$9)*(I14-1)) | J11: =IF(J14="","",$E$10-$E$10/($B$9)*(J14-1)) | K11: =IF(K14="","",$E$10-$E$10/($B$9)*(K14-1)) | L11: =IF(L14="","",$E$10-$E$10/($B$9)*(L14-1)) | M11: =IF(M14="","",$E$10-$E$10/($B$9)*(M14-1)) | N11: =IF(N14="","",$E$10-$E$10/($B$9)*(N14-1)) | ... AD11: =IF(AD14="","",$E$10-$E$10/($B$9)*(AD14-1))
A12: Warning! These are necessary | C12: Trend | F12: 0 | G12: 0 | H12: 0 | I12: 0 | J12: 0 | K12: 0 | L12: 0 | M12: 0 | N12: 0 | O12: 0 | P12: 0 | Q12: 0 | R12: 0 | S12: 0 | T12: 0 | U12: 0 | V12: 0 | W12: 0 | X12: 0 | Y12: 0 | Z12: 0 | AA12: 0 | AB12: 0 | AC12: 0 | AD12: 0
A13: template rows | C13: Trend Days | D13: =IF($D$11>B10,B10,$D$11) -> 1 | F13: =IF($D$11>E13,E13+1,"") -> 1 | G13: 2 | H13: 3 | I13: 4 | J13: 5 | K13: 6 | L13: 7 | M13: 8 | N13: 9 | O13: 10 | P13: 11 | Q13: 12 | R13: 13 | S13: 14 | T13: 15 | U13: 16 | V13: 17 | W13: 18 | X13: 19 | Y13: 20 | Z13: 21 | AA13: 22 | AB13: 23 | AC13: 24 | AD13: 25
A14: Task name | B14: Story ID | C14: Responsible | D14: Status | E14: Est. | F14: 1 | G14: =IF($B$9>F14,F14+1,"") -> 2 | H14: =IF($B$9>G14,G14+1,"") -> 3 | I14: =IF($B$9>H14,H14+1,"") | J14: =IF($B$9>I14,I14+1,"") | K14: =IF($B$9>J14,J14+1,"") | L14: =IF($B$9>K14,K14+1,"") | M14: =IF($B$9>L14,L14+1,"") | N14: =IF($B$9>M14,M14+1,"") | ... AD14: =IF($B$9>AC14,AC14+1,"")
A15: REQ-1.1: verify and validate and identify client | B15: 9 | D15: =IF(A15<>"","Planned","") -> Planned | F15: =IF(OR(F$14="",$E15=""),"",E15)
A16: REQ-1.2: get all majors | B16: 10 | D16: =IF(A16<>"","Planned","") -> Planned | F16: =IF(OR(F$14="",$E16=""),"",E16) | AC16: =IF(OR(AC$14="",$E16=""),"",AB16) | AD16: =IF(OR(AD$14="",$E16=""),"",AC16)
A17: REQ-1.3: get all colleges | B17: 11 | D17: =IF(A17<>"","Planned","") -> Planned | F17: =IF(OR(F$14="",$E17=""),"",E17) | AC17: =IF(OR(AC$14="",$E17=""),"",AB17) | AD17: =IF(OR(AD$14="",$E17=""),"",AC17)
A18: REQ-1.4: get all job types | B18: 12 | D18: =IF(A18<>"","Planned","") -> Planned | F18: =IF(OR(F$14="",$E18=""),"",E18) | AC18: =IF(OR(AC$14="",$E18=""),"",AB18) | AD18: =IF(OR(AD$14="",$E18=""),"",AC18)
A19: REQ-1.6: get all locations (state/regions) | B19: 13 | D19: =IF(A19<>"","Planned","") -> Planned | F19: =IF(OR(F$14="",$E19=""),"",E19) | AC19: =IF(OR(AC$14="",$E19=""),"",AB19) | AD19: =IF(OR(AD$14="",$E19=""),"",AC19)
A20: REQ-1.7: get all OCECS regions (from regions table) | B20: 14 | D20: =IF(A20<>"","Planned","") -> Planned | F20: =IF(OR(F$14="",$E20=""),"",E20) | AC20: =IF(OR(AC$14="",$E20=""),"",AB20) | AD20: =IF(OR(AD$14="",$E20=""),"",AC20)
A21: REQ-1.8: get quarters | B21: 15 | D21: =IF(A21<>"","Planned","") -> Planned | F21: =IF(OR(F$14="",$E21=""),"",E21) | AC21: =IF(OR(AC$14="",$E21=""),"",AB21) | AD21: =IF(OR(AD$14="",$E21=""),"",AC21)
A22: REQ-1.9: get month/quarter mapping | B22: 16 | D22: =IF(A22<>"","Planned","") -> Planned | F22: =IF(OR(F$14="",$E22=""),"",E22) | AC22: =IF(OR(AC$14="",$E22=""),"",AB22) | AD22: =IF(OR(AD$14="",$E22=""),"",AC22)
A23: REQ-2.1: filter student records by a start and end quarters (inclusive start and end). | B23: 17 | D23: =IF(A23<>"","Planned","") -> Planned | F23: =IF(OR(F$14="",$E23=""),"",E23) | AC23: =IF(OR(AC$14="",$E23=""),"",AB23) | AD23: =IF(OR(AD$14="",$E23=""),"",AC23)
A24: REQ-2.2: filter by job types | B24: 18 | D24: =IF(A24<>"","Planned","") -> Planned | F24: =IF(OR(F$14="",$E24=""),"",E24) | AC24: =IF(OR(AC$14="",$E24=""),"",AB24) | AD24: =IF(OR(AD$14="",$E24=""),"",AC24)
A25: REQ-2.3: filter students by gender | B25: 19 | D25: =IF(A25<>"","Planned","") -> Planned | F25: =IF(OR(F$14="",$E25=""),"",E25) | AC25: =IF(OR(AC$14="",$E25=""),"",AB25) | AD25: =IF(OR(AD$14="",$E25=""),"",AC25)
A26: REQ-2.4: filter by major(s) - can select multiple majors to query | B26: 20 | D26: =IF(A26<>"","Planned","") -> Planned | F26: =IF(OR(F$14="",$E26=""),"",E26) | AC26: =IF(OR(AC$14="",$E26=""),"",AB26) | AD26: =IF(OR(AD$14="",$E26=""),"",AC26)
A27: REQ-2.5: filter by only NTID students | B27: 21 | D27: =IF(A27<>"","Planned","") -> Planned | F27: =IF(OR(F$14="",$E27=""),"",E27) | AC27: =IF(OR(AC$14="",$E27=""),"",AB27) | AD27: =IF(OR(AD$14="",$E27=""),"",AC27)
... A33: REQ-2.11: search for single student by first name | B33: 27 | D33: =IF(A33<>"","Planned","") -> Planned | F33: =IF(OR(F$14="",$E33=""),"",E33) | AC33: =IF(OR(AC$14="",$E33=""),"",AB33) | AD33: =IF(OR(AD$14="",$E33=""),"",AC33)
D34: =IF(A34<>"","Planned","") | F34: =IF(OR(F$14="",$E34=""),"",E34) | AC34: =IF(OR(AC$14="",$E34=""),"",AB34) | AD34: =IF(OR(AD$14="",$E34=""),"",AC34)
D35: =IF(A35<>"","Planned","") | F35: =IF(OR(F$14="",$E35=""),"",E35) | AC35: =IF(OR(AC$14="",$E35=""),"",AB35) | AD35: =IF(OR(AD$14="",$E35=""),"",AC35)
D36: =IF(A36<>"","Planned","") | F36: =IF(OR(F$14="",$E36=""),"",E36) | AC36: =IF(OR(AC$14="",$E36=""),"",AB36) | AD36: =IF(OR(AD$14="",$E36=""),"",AC36)
D37: =IF(A37<>"","Planned","") | F37: =IF(OR(F$14="",$E37=""),"",E37) | AC37: =IF(OR(AC$14="",$E37=""),"",AB37) | AD37: =IF(OR(AD$14="",$E37=""),"",AC37)
D38: =IF(A38<>"","Planned","") | F38: =IF(OR(F$14="",$E38=""),"",E38) | AC38: =IF(OR(AC$14="",$E38=""),"",AB38) | AD38: =IF(OR(AD$14="",$E38=""),"",AC38)
D39: =IF(A39<>"","Planned","") | F39: =IF(OR(F$14="",$E39=""),"",E39) | AC39: =IF(OR(AC$14="",$E39=""),"",AB39) | AD39: =IF(OR(AD$14="",$E39=""),"",AC39)
D40: =IF(A40<>"","Planned","") | F40: =IF(OR(F$14="",$E40=""),"",E40) | AC40: =IF(OR(AC$14="",$E40=""),"",AB40) | AD40: =IF(OR(AD$14="",$E40=""),"",AC40)
D41: =IF(A41<>"","Planned","") | F41: =IF(OR(F$14="",$E41=""),"",E41) | AC41: =IF(OR(AC$14="",$E41=""),"",AB41) | AD41: =IF(OR(AD$14="",$E41=""),"",AC41)
D42: =IF(A42<>"","Planned","") | F42: =IF(OR(F$14="",$E42=""),"",E42) | AC42: =IF(OR(AC$14="",$E42=""),"",AB42) | AD42: =IF(OR(AD$14="",$E42=""),"",AC42)
D43: =IF(A43<>"","Planned","") | F43: =IF(OR(F$14="",$E43=""),"",E43) | AC43: =IF(OR(AC$14="",$E43=""),"",AB43) | AD43: =IF(OR(AD$14="",$E43=""),"",AC43)
D44: =IF(A44<>"","Planned","") | F44: =IF(OR(F$14="",$E44=""),"",E44) | AC44: =IF(OR(AC$14="",$E44=""),"",AB44) | AD44: =IF(OR(AD$14="",$E44=""),"",AC44)
D45: =IF(A45<>"","Planned","") | F45: =IF(OR(F$14="",$E45=""),"",E45) | AC45: =IF(OR(AC$14="",$E45=""),"",AB45) | AD45: =IF(OR(AD$14="",$E45=""),"",AC45)
... D57: =IF(A57<>"","Planned","") | F57: =IF(OR(F$14="",$E57=""),"",E57) | AC57: =IF(OR(AC$14="",$E57=""),"",AB57) | AD57: =IF(OR(AD$14="",$E57=""),"",AC57)
D58: =IF(A58<>"","Planned","") | F58: =IF(OR(F$14="",$E58=""),"",E58) | G58: =IF(OR(G$14="",$E58=""),"",F58) | H58: =IF(OR(H$14="",$E58=""),"",G58) | I58: =IF(OR(I$14="",$E58=""),"",H58) | J58: =IF(OR(J$14="",$E58=""),"",I58) | K58: =IF(OR(K$14="",$E58=""),"",J58) | L58: =IF(OR(L$14="",$E58=""),"",K58) | M58: =IF(OR(M$14="",$E58=""),"",L58) | ... AD58: =IF(OR(AD$14="",$E58=""),"",AC58)
D59: =IF(A59<>"","Planned","") | F59: =IF(OR(F$14="",$E59=""),"",E59) | G59: =IF(OR(G$14="",$E59=""),"",F59) | H59: =IF(OR(H$14="",$E59=""),"",G59) | I59: =IF(OR(I$14="",$E59=""),"",H59) | J59: =IF(OR(J$14="",$E59=""),"",I59) | K59: =IF(OR(K$14="",$E59=""),"",J59) | L59: =IF(OR(L$14="",$E59=""),"",K59) | M59: =IF(OR(M$14="",$E59=""),"",L59) | ... AD59: =IF(OR(AD$14="",$E59=""),"",AC59)
D64: =IF(A64<>"","Planned","")

Sheet Sp6
A1: 1
A9: Sprint implementation weeks | B9: 3 | E9: Effort | F9: Remaining on implementation week…
A10: Trend calculated based on last | B10: 5 | C10: Days | D10: Totals | E10: =SUM(OFFSET(E14,1,0,$B$11,1)) -> 0 | F10: =IF(AND(SUM(OFFSET(F14,1,0,$B$11,1))=0),0,SUM(OFFSET(F14,1,0,$B$11,1))) -> 0 | G10: =IF(AND(SUM(OFFSET(G14,1,0,$B$11,1))=0),"",SUM(OFFSET(G14,1,0,$B$11,1))) | H10: =IF(AND(SUM(OFFSET(H14,1,0,$B$11,1))=0),"",SUM(OFFSET(H14,1,0,$B$11,1))) | I10: =IF(AND(SUM(OFFSET(I14,1,0,$B$11,1))=0),"",SUM(OFFSET(I14,1,0,$B$11,1))) | J10: =IF(AND(SUM(OFFSET(J14,1,0,$B$11,1))=0),"",SUM(OFFSET(J14,1,0,$B$11,1))) | K10: =IF(AND(SUM(OFFSET(K14,1,0,$B$11,1))=0),"",SUM(OFFSET(K14,1,0,$B$11,1))) | L10: =IF(AND(SUM(OFFSET(L14,1,0,$B$11,1))=0),"",SUM(OFFSET(L14,1,0,$B$11,1))) | M10: =IF(AND(SUM(OFFSET(M14,1,0,$B$11,1))=0),"",SUM(OFFSET(M14,1,0,$B$11,1))) | N10: =IF(AND(SUM(OFFSET(N14,1,0,$B$11,1))=0),"",SUM(OFFSET(N14,1,0,$B$11,1))) | ... AD10: =IF(AND(SUM(OFFSET(AD14,1,0,$B$11,1))=0),"",SUM(OFFSET(AD14,1,0,$B$11,1)))
A11: Task rows | B11: =IF(COUNTA(A15:A242)=0,1,COUNTA(A15:A242)) -> 50 | C11: Done days | D11: =IF(COUNTIF(F10:AD10,">0")=0,1,COUNTIF(F10:AD10,">0")) -> 1 | F11: =IF(F14="","",$E10-$E10/($B9-1)*(F14-1)) -> 0 | G11: =IF(G14="","",$E$10-$E$10/($B$9)*(G14-1)) -> 0 | H11: =IF(H14="","",$E$10-$E$10/($B$9)*(H14-1)) -> 0 | I11: =IF(I14="","",$E$10-$E$10/($B$9)*(I14-1)) | J11: =IF(J14="","",$E$10-$E$10/($B$9)*(J14-1)) | K11: =IF(K14="","",$E$10-$E$10/($B$9)*(K14-1)) | L11: =IF(L14="","",$E$10-$E$10/($B$9)*(L14-1)) | M11: =IF(M14="","",$E$10-$E$10/($B$9)*(M14-1)) | N11: =IF(N14="","",$E$10-$E$10/($B$9)*(N14-1)) | ... AD11: =IF(AD14="","",$E$10-$E$10/($B$9)*(AD14-1))
A12: Warning! These are necessary | C12: Trend | F12: 0 | G12: 0 | H12: 0 | I12: 0 | J12: 0 | K12: 0 | L12: 0 | M12: 0 | N12: 0 | O12: 0 | P12: 0 | Q12: 0 | R12: 0 | S12: 0 | T12: 0 | U12: 0 | V12: 0 | W12: 0 | X12: 0 | Y12: 0 | Z12: 0 | AA12: 0 | AB12: 0 | AC12: 0 | AD12: 0
A13: template rows | C13: Trend Days | D13: =IF($D$11>B10,B10,$D$11) -> 1 | F13: =IF($D$11>E13,E13+1,"") -> 1 | G13: 2 | H13: 3 | I13: 4 | J13: 5 | K13: 6 | L13: 7 | M13: 8 | N13: 9 | O13: 10 | P13: 11 | Q13: 12 | R13: 13 | S13: 14 | T13: 15 | U13: 16 | V13: 17 | W13: 18 | X13: 19 | Y13: 20 | Z13: 21 | AA13: 22 | AB13: 23 | AC13: 24 | AD13: 25
A14: Task name | B14: Story ID | C14: Responsible | D14: Status | E14: Est. | F14: 1 | G14: =IF($B$9>F14,F14+1,"") -> 2 | H14: =IF($B$9>G14,G14+1,"") -> 3 | I14: =IF($B$9>H14,H14+1,"") | J14: =IF($B$9>I14,I14+1,"") | K14: =IF($B$9>J14,J14+1,"") | L14: =IF($B$9>K14,K14+1,"") | M14: =IF($B$9>L14,L14+1,"") | N14: =IF($B$9>M14,M14+1,"") | ... AD14: =IF($B$9>AC14,AC14+1,"")
A15: REQ-2.12: search for single student by last name | B15: 28 | D15: =IF(A15<>"","Planned","") -> Planned | F15: =IF(OR(F$14="",$E15=""),"",E15)
A16: REQ-2.13: search for single student by UID | B16: 29 | D16: =IF(A16<>"","Planned","") -> Planned | F16: =IF(OR(F$14="",$E16=""),"",E16) | AC16: =IF(OR(AC$14="",$E16=""),"",AB16) | AD16: =IF(OR(AD$14="",$E16=""),"",AC16)
A17: REQ-2.14: get a student’s registration history | B17: 30 | D17: =IF(A17<>"","Planned","") -> Planned | F17: =IF(OR(F$14="",$E17=""),"",E17) | AC17: =IF(OR(AC$14="",$E17=""),"",AB17) | AD17: =IF(OR(AD$14="",$E17=""),"",AC17)
A18: REQ-2.15: provide all reports in simple XML format | B18: 31 | D18: =IF(A18<>"","Planned","") -> Planned | F18: =IF(OR(F$14="",$E18=""),"",E18) | AC18: =IF(OR(AC$14="",$E18=""),"",AB18) | AD18: =IF(OR(AD$14="",$E18=""),"",AC18)
A19: REQ-3.1: get all companies | B19: 32 | D19: =IF(A19<>"","Planned","") -> Planned | F19: =IF(OR(F$14="",$E19=""),"",E19) | AC19: =IF(OR(AC$14="",$E19=""),"",AB19) | AD19: =IF(OR(AD$14="",$E19=""),"",AC19)
A20: REQ-3.2: get all account managers | B20: 33 | D20: =IF(A20<>"","Planned","") -> Planned | F20: =IF(OR(F$14="",$E20=""),"",E20) | AC20: =IF(OR(AC$14="",$E20=""),"",AB20) | AD20: =IF(OR(AD$14="",$E20=""),"",AC20)
A21: REQ-3.3: filter current employers with postings by start and end quarters | B21: 34 | D21: =IF(A21<>"","Planned","") -> Planned | F21: =IF(OR(F$14="",$E21=""),"",E21) | AC21: =IF(OR(AC$14="",$E21=""),"",AB21) | AD21: =IF(OR(AD$14="",$E21=""),"",AC21)
A22: REQ-3.4: filter by employers outside of the U.S | B22: 35 | D22: =IF(A22<>"","Planned","") -> Planned | F22: =IF(OR(F$14="",$E22=""),"",E22) | AC22: =IF(OR(AC$14="",$E22=""),"",AB22) | AD22: =IF(OR(AD$14="",$E22=""),"",AC22)
A23: REQ-3.5: filter employers with job postings by job types | B23: 36 | D23: =IF(A23<>"","Planned","") -> Planned | F23: =IF(OR(F$14="",$E23=""),"",E23) | AC23: =IF(OR(AC$14="",$E23=""),"",AB23) | AD23: =IF(OR(AD$14="",$E23=""),"",AC23)
A24: REQ-3.6: filter employers with job postings by location(state) | B24: 37 | D24: =IF(A24<>"","Planned","") -> Planned | F24: =IF(OR(F$14="",$E24=""),"",E24) | AC24: =IF(OR(AC$14="",$E24=""),"",AB24) | AD24: =IF(OR(AD$14="",$E24=""),"",AC24)
A25: REQ-3.7: filter employer by account manager | B25: 38 | D25: =IF(A25<>"","Planned","") -> Planned | F25: =IF(OR(F$14="",$E25=""),"",E25) | AC25: =IF(OR(AC$14="",$E25=""),"",AB25) | AD25: =IF(OR(AD$14="",$E25=""),"",AC25)
A26: REQ-3.8: filter employers with postings by major(s) | B26: 39 | D26: =IF(A26<>"","Planned","") -> Planned | F26: =IF(OR(F$14="",$E26=""),"",E26) | AC26: =IF(OR(AC$14="",$E26=""),"",AB26) | AD26: =IF(OR(AD$14="",$E26=""),"",AC26)
A27: REQ-3.9: filter employers with postings by college(s) | B27: 40 | D27: =IF(A27<>"","Planned","") -> Planned | F27: =IF(OR(F$14="",$E27=""),"",E27) | AC27: =IF(OR(AC$14="",$E27=""),"",AB27) | AD27: =IF(OR(AD$14="",$E27=""),"",AC27)
... A57: REQ-5.8: return report of activity records grouped by major | B57: 70 | D57: =IF(A57<>"","Planned","") -> Planned | F57: =IF(OR(F$14="",$E57=""),"",E57) | AC57: =IF(OR(AC$14="",$E57=""),"",AB57) | AD57: =IF(OR(AD$14="",$E57=""),"",AC57)
A58: REQ-5.9: return report of activity records grouped by quarter | B58: 71 | D58: =IF(A58<>"","Planned","") -> Planned | F58: =IF(OR(F$14="",$E58=""),"",E58) | G58: =IF(OR(G$14="",$E58=""),"",F58) | H58: =IF(OR(H$14="",$E58=""),"",G58) | I58: =IF(OR(I$14="",$E58=""),"",H58) | J58: =IF(OR(J$14="",$E58=""),"",I58) | K58: =IF(OR(K$14="",$E58=""),"",J58) | L58: =IF(OR(L$14="",$E58=""),"",K58) | M58: =IF(OR(M$14="",$E58=""),"",L58) | ... AD58: =IF(OR(AD$14="",$E58=""),"",AC58)
A59: REQ-5.10: return report of activity records grouped by month | B59: 72 | D59: =IF(A59<>"","Planned","") -> Planned | F59: =IF(OR(F$14="",$E59=""),"",E59) | G59: =IF(OR(G$14="",$E59=""),"",F59) | H59: =IF(OR(H$14="",$E59=""),"",G59) | I59: =IF(OR(I$14="",$E59=""),"",H59) | J59: =IF(OR(J$14="",$E59=""),"",I59) | K59: =IF(OR(K$14="",$E59=""),"",J59) | L59: =IF(OR(L$14="",$E59=""),"",K59) | M59: =IF(OR(M$14="",$E59=""),"",L59) | ... AD59: =IF(OR(AD$14="",$E59=""),"",AC59)
A60: REQ-5.11: return report of activity records grouped by office visit reason | B60: 73
A61: REQ-5.12: return report of activity records grouped by student name | B61: 74
A62: REQ-5.13: return report of activity records grouped by company | B62: 75
A63: REQ-5.14: return report of student job activities | B63: 76
A64: REQ-5.15: return report of all matching activity records | B64: 77 | D64: =IF(A64<>"","Planned","") -> Planned

Sheet Sp7
A1: 1
A9: Sprint implementation weeks | B9: 2 | E9: Effort | F9: Remaining on implementation week…
A10: Trend calculated based on last | B10: 5 | C10: Days | D10: Totals | E10: =SUM(OFFSET(E14,1,0,$B$11,1)) -> 0 | F10: =IF(AND(SUM(OFFSET(F14,1,0,$B$11,1))=0),0,SUM(OFFSET(F14,1,0,$B$11,1))) -> 0 | G10: =IF(AND(SUM(OFFSET(G14,1,0,$B$11,1))=0),"",SUM(OFFSET(G14,1,0,$B$11,1))) | H10: =IF(AND(SUM(OFFSET(H14,1,0,$B$11,1))=0),"",SUM(OFFSET(H14,1,0,$B$11,1))) | I10: =IF(AND(SUM(OFFSET(I14,1,0,$B$11,1))=0),"",SUM(OFFSET(I14,1,0,$B$11,1))) | J10: =IF(AND(SUM(OFFSET(J14,1,0,$B$11,1))=0),"",SUM(OFFSET(J14,1,0,$B$11,1))) | K10: =IF(AND(SUM(OFFSET(K14,1,0,$B$11,1))=0),"",SUM(OFFSET(K14,1,0,$B$11,1))) | L10: =IF(AND(SUM(OFFSET(L14,1,0,$B$11,1))=0),"",SUM(OFFSET(L14,1,0,$B$11,1))) | M10: =IF(AND(SUM(OFFSET(M14,1,0,$B$11,1))=0),"",SUM(OFFSET(M14,1,0,$B$11,1))) | N10: =IF(AND(SUM(OFFSET(N14,1,0,$B$11,1))=0),"",SUM(OFFSET(N14,1,0,$B$11,1))) | ... AD10: =IF(AND(SUM(OFFSET(AD14,1,0,$B$11,1))=0),"",SUM(OFFSET(AD14,1,0,$B$11,1)))
A11: Task rows | B11: =IF(COUNTA(A15:A242)=0,1,COUNTA(A15:A242)) -> 1 | C11: Done days | D11: =IF(COUNTIF(F10:AD10,">0")=0,1,COUNTIF(F10:AD10,">0")) -> 1 | F11: =IF(F14="","",$E10-$E10/($B9-1)*(F14-1)) -> 0 | G11: =IF(G14="","",$E$10-$E$10/($B$9)*(G14-1)) -> 0 | H11: =IF(H14="","",$E$10-$E$10/($B$9)*(H14-1)) | I11: =IF(I14="","",$E$10-$E$10/($B$9)*(I14-1)) | J11: =IF(J14="","",$E$10-$E$10/($B$9)*(J14-1)) | K11: =IF(K14="","",$E$10-$E$10/($B$9)*(K14-1)) | L11: =IF(L14="","",$E$10-$E$10/($B$9)*(L14-1)) | M11: =IF(M14="","",$E$10-$E$10/($B$9)*(M14-1)) | N11: =IF(N14="","",$E$10-$E$10/($B$9)*(N14-1)) | ... AD11: =IF(AD14="","",$E$10-$E$10/($B$9)*(AD14-1))
A12: Warning! These are necessary | C12: Trend | F12: 0 | G12: 0 | H12: 0 | I12: 0 | J12: 0 | K12: 0 | L12: 0 | M12: 0 | N12: 0 | O12: 0 | P12: 0 | Q12: 0 | R12: 0 | S12: 0 | T12: 0 | U12: 0 | V12: 0 | W12: 0 | X12: 0 | Y12: 0 | Z12: 0 | AA12: 0 | AB12: 0 | AC12: 0 | AD12: 0
A13: template rows | C13: Trend Days | D13: =IF($D$11>B10,B10,$D$11) -> 1 | F13: =IF($D$11>E13,E13+1,"") -> 1 | G13: 2 | H13: 3 | I13: 4 | J13: 5 | K13: 6 | L13: 7 | M13: 8 | N13: 9 | O13: 10 | P13: 11 | Q13: 12 | R13: 13 | S13: 14 | T13: 15 | U13: 16 | V13: 17 | W13: 18 | X13: 19 | Y13: 20 | Z13: 21 | AA13: 22 | AB13: 23 | AC13: 24 | AD13: 25
A14: Task name | B14: Story ID | C14: Responsible | D14: Status | E14: Est. | F14: 1 | G14: =IF($B$9>F14,F14+1,"") -> 2 | H14: =IF($B$9>G14,G14+1,"") | I14: =IF($B$9>H14,H14+1,"") | J14: =IF($B$9>I14,I14+1,"") | K14: =IF($B$9>J14,J14+1,"") | L14: =IF($B$9>K14,K14+1,"") | M14: =IF($B$9>L14,L14+1,"") | N14: =IF($B$9>M14,M14+1,"") | ... AD14: =IF($B$9>AC14,AC14+1,"")
D15: =IF(A15<>"","Planned","") | F15: =IF(OR(F$14="",$E15=""),"",E15)
D16: =IF(A16<>"","Planned","") | F16: =IF(OR(F$14="",$E16=""),"",E16) | AC16: =IF(OR(AC$14="",$E16=""),"",AB16) | AD16: =IF(OR(AD$14="",$E16=""),"",AC16)
D17: =IF(A17<>"","Planned","") | F17: =IF(OR(F$14="",$E17=""),"",E17) | AC17: =IF(OR(AC$14="",$E17=""),"",AB17) | AD17: =IF(OR(AD$14="",$E17=""),"",AC17)
D18: =IF(A18<>"","Planned","") | F18: =IF(OR(F$14="",$E18=""),"",E18) | AC18: =IF(OR(AC$14="",$E18=""),"",AB18) | AD18: =IF(OR(AD$14="",$E18=""),"",AC18)
D19: =IF(A19<>"","Planned","") | F19: =IF(OR(F$14="",$E19=""),"",E19) | AC19: =IF(OR(AC$14="",$E19=""),"",AB19) | AD19: =IF(OR(AD$14="",$E19=""),"",AC19)
D20: =IF(A20<>"","Planned","") | F20: =IF(OR(F$14="",$E20=""),"",E20) | AC20: =IF(OR(AC$14="",$E20=""),"",AB20) | AD20: =IF(OR(AD$14="",$E20=""),"",AC20)
D21: =IF(A21<>"","Planned","") | F21: =IF(OR(F$14="",$E21=""),"",E21) | AC21: =IF(OR(AC$14="",$E21=""),"",AB21) | AD21: =IF(OR(AD$14="",$E21=""),"",AC21)
D22: =IF(A22<>"","Planned","") | F22: =IF(OR(F$14="",$E22=""),"",E22) | AC22: =IF(OR(AC$14="",$E22=""),"",AB22) | AD22: =IF(OR(AD$14="",$E22=""),"",AC22)
D23: =IF(A23<>"","Planned","") | F23: =IF(OR(F$14="",$E23=""),"",E23) | AC23: =IF(OR(AC$14="",$E23=""),"",AB23) | AD23: =IF(OR(AD$14="",$E23=""),"",AC23)
D24: =IF(A24<>"","Planned","") | F24: =IF(OR(F$14="",$E24=""),"",E24) | AC24: =IF(OR(AC$14="",$E24=""),"",AB24) | AD24: =IF(OR(AD$14="",$E24=""),"",AC24)
D25: =IF(A25<>"","Planned","") | F25: =IF(OR(F$14="",$E25=""),"",E25) | AC25: =IF(OR(AC$14="",$E25=""),"",AB25) | AD25: =IF(OR(AD$14="",$E25=""),"",AC25)
D26: =IF(A26<>"","Planned","") | F26: =IF(OR(F$14="",$E26=""),"",E26) | AC26: =IF(OR(AC$14="",$E26=""),"",AB26) | AD26: =IF(OR(AD$14="",$E26=""),"",AC26)
D27: =IF(A27<>"","Planned","") | F27: =IF(OR(F$14="",$E27=""),"",E27) | AC27: =IF(OR(AC$14="",$E27=""),"",AB27) | AD27: =IF(OR(AD$14="",$E27=""),"",AC27)
... D57: =IF(A57<>"","Planned","") | F57: =IF(OR(F$14="",$E57=""),"",E57) | AC57: =IF(OR(AC$14="",$E57=""),"",AB57) | AD57: =IF(OR(AD$14="",$E57=""),"",AC57)
D58: =IF(A58<>"","Planned","") | F58: =IF(OR(F$14="",$E58=""),"",E58) | G58: =IF(OR(G$14="",$E58=""),"",F58) | H58: =IF(OR(H$14="",$E58=""),"",G58) | I58: =IF(OR(I$14="",$E58=""),"",H58) | J58: =IF(OR(J$14="",$E58=""),"",I58) | K58: =IF(OR(K$14="",$E58=""),"",J58) | L58: =IF(OR(L$14="",$E58=""),"",K58) | M58: =IF(OR(M$14="",$E58=""),"",L58) | ... AD58: =IF(OR(AD$14="",$E58=""),"",AC58)
D59: =IF(A59<>"","Planned","") | F59: =IF(OR(F$14="",$E59=""),"",E59) | G59: =IF(OR(G$14="",$E59=""),"",F59) | H59: =IF(OR(H$14="",$E59=""),"",G59) | I59: =IF(OR(I$14="",$E59=""),"",H59) | J59: =IF(OR(J$14="",$E59=""),"",I59) | K59: =IF(OR(K$14="",$E59=""),"",J59) | L59: =IF(OR(L$14="",$E59=""),"",K59) | M59: =IF(OR(M$14="",$E59=""),"",L59) | ... AD59: =IF(OR(AD$14="",$E59=""),"",AC59)
D64: =IF(A64<>"","Planned","")

Sheet Sprint Sheet Template
A1: 1
A9: Sprint implementation weeks | B9: 2 | E9: Effort | F9: Remaining on implementation week…
A10: Trend calculated based on last | B10: 5 | C10: Days | D10: Totals | E10: =SUM(OFFSET(E14,1,0,$B$11,1)) -> 0 | F10: =IF(AND(SUM(OFFSET(F14,1,0,$B$11,1))=0),0,SUM(OFFSET(F14,1,0,$B$11,1))) -> 0 | G10: =IF(AND(SUM(OFFSET(G14,1,0,$B$11,1))=0),"",SUM(OFFSET(G14,1,0,$B$11,1))) | H10: =IF(AND(SUM(OFFSET(H14,1,0,$B$11,1))=0),"",SUM(OFFSET(H14,1,0,$B$11,1))) | I10: =IF(AND(SUM(OFFSET(I14,1,0,$B$11,1))=0),"",SUM(OFFSET(I14,1,0,$B$11,1))) | J10: =IF(AND(SUM(OFFSET(J14,1,0,$B$11,1))=0),"",SUM(OFFSET(J14,1,0,$B$11,1))) | K10: =IF(AND(SUM(OFFSET(K14,1,0,$B$11,1))=0),"",SUM(OFFSET(K14,1,0,$B$11,1))) | L10: =IF(AND(SUM(OFFSET(L14,1,0,$B$11,1))=0),"",SUM(OFFSET(L14,1,0,$B$11,1))) | M10: =IF(AND(SUM(OFFSET(M14,1,0,$B$11,1))=0),"",SUM(OFFSET(M14,1,0,$B$11,1))) | N10: =IF(AND(SUM(OFFSET(N14,1,0,$B$11,1))=0),"",SUM(OFFSET(N14,1,0,$B$11,1))) | ... AD10: =IF(AND(SUM(OFFSET(AD14,1,0,$B$11,1))=0),"",SUM(OFFSET(AD14,1,0,$B$11,1)))
A11: Task rows | B11: =IF(COUNTA(A15:A242)=0,1,COUNTA(A15:A242)) -> 1 | C11: Done days | D11: =IF(COUNTIF(F10:AD10,">0")=0,1,COUNTIF(F10:AD10,">0")) -> 1 | F11: =IF(F14="","",$E10-$E10/($B9-1)*(F14-1)) -> 0 | G11: =IF(G14="","",$E$10-$E$10/($B$9)*(G14-1)) -> 0 | H11: =IF(H14="","",$E$10-$E$10/($B$9)*(H14-1)) | I11: =IF(I14="","",$E$10-$E$10/($B$9)*(I14-1)) | J11: =IF(J14="","",$E$10-$E$10/($B$9)*(J14-1)) | K11: =IF(K14="","",$E$10-$E$10/($B$9)*(K14-1)) | L11: =IF(L14="","",$E$10-$E$10/($B$9)*(L14-1)) | M11: =IF(M14="","",$E$10-$E$10/($B$9)*(M14-1)) | N11: =IF(N14="","",$E$10-$E$10/($B$9)*(N14-1)) | ... AD11: =IF(AD14="","",$E$10-$E$10/($B$9)*(AD14-1))
A12: Warning! These are necessary | C12: Trend | F12: 0 | G12: 0 | H12: 0 | I12: 0 | J12: 0 | K12: 0 | L12: 0 | M12: 0 | N12: 0 | O12: 0 | P12: 0 | Q12: 0 | R12: 0 | S12: 0 | T12: 0 | U12: 0 | V12: 0 | W12: 0 | X12: 0 | Y12: 0 | Z12: 0 | AA12: 0 | AB12: 0 | AC12: 0 | AD12: 0
A13: template rows | C13: Trend Days | D13: =IF($D$11>B10,B10,$D$11) -> 1 | F13: =IF($D$11>E13,E13+1,"") -> 1 | G13: 2 | H13: 3 | I13: 4 | J13: 5 | K13: 6 | L13: 7 | M13: 8 | N13: 9 | O13: 10 | P13: 11 | Q13: 12 | R13: 13 | S13: 14 | T13: 15 | U13: 16 | V13: 17 | W13: 18 | X13: 19 | Y13: 20 | Z13: 21 | AA13: 22 | AB13: 23 | AC13: 24 | AD13: 25
A14: Task name | B14: Story ID | C14: Responsible | D14: Status | E14: Est. | F14: 1 | G14: =IF($B$9>F14,F14+1,"") -> 2 | H14: =IF($B$9>G14,G14+1,"") | I14: =IF($B$9>H14,H14+1,"") | J14: =IF($B$9>I14,I14+1,"") | K14: =IF($B$9>J14,J14+1,"") | L14: =IF($B$9>K14,K14+1,"") | M14: =IF($B$9>L14,L14+1,"") | N14: =IF($B$9>M14,M14+1,"") | ... AD14: =IF($B$9>AC14,AC14+1,"")
D15: =IF(A15<>"","Planned","") | F15: =IF(OR(F$14="",$E15=""),"",E15)
D16: =IF(A16<>"","Planned","") | F16: =IF(OR(F$14="",$E16=""),"",E16) | AC16: =IF(OR(AC$14="",$E16=""),"",AB16) | AD16: =IF(OR(AD$14="",$E16=""),"",AC16)
D17: =IF(A17<>"","Planned","") | F17: =IF(OR(F$14="",$E17=""),"",E17) | AC17: =IF(OR(AC$14="",$E17=""),"",AB17) | AD17: =IF(OR(AD$14="",$E17=""),"",AC17)
D18: =IF(A18<>"","Planned","") | F18: =IF(OR(F$14="",$E18=""),"",E18) | AC18: =IF(OR(AC$14="",$E18=""),"",AB18) | AD18: =IF(OR(AD$14="",$E18=""),"",AC18)
D19: =IF(A19<>"","Planned","") | F19: =IF(OR(F$14="",$E19=""),"",E19) | AC19: =IF(OR(AC$14="",$E19=""),"",AB19) | AD19: =IF(OR(AD$14="",$E19=""),"",AC19)
D20: =IF(A20<>"","Planned","") | F20: =IF(OR(F$14="",$E20=""),"",E20) | AC20: =IF(OR(AC$14="",$E20=""),"",AB20) | AD20: =IF(OR(AD$14="",$E20=""),"",AC20)
D21: =IF(A21<>"","Planned","") | F21: =IF(OR(F$14="",$E21=""),"",E21) | AC21: =IF(OR(AC$14="",$E21=""),"",AB21) | AD21: =IF(OR(AD$14="",$E21=""),"",AC21)
D22: =IF(A22<>"","Planned","") | F22: =IF(OR(F$14="",$E22=""),"",E22) | AC22: =IF(OR(AC$14="",$E22=""),"",AB22) | AD22: =IF(OR(AD$14="",$E22=""),"",AC22)
D23: =IF(A23<>"","Planned","") | F23: =IF(OR(F$14="",$E23=""),"",E23) | AC23: =IF(OR(AC$14="",$E23=""),"",AB23) | AD23: =IF(OR(AD$14="",$E23=""),"",AC23)
D24: =IF(A24<>"","Planned","") | F24: =IF(OR(F$14="",$E24=""),"",E24) | AC24: =IF(OR(AC$14="",$E24=""),"",AB24) | AD24: =IF(OR(AD$14="",$E24=""),"",AC24)
D25: =IF(A25<>"","Planned","") | F25: =IF(OR(F$14="",$E25=""),"",E25) | AC25: =IF(OR(AC$14="",$E25=""),"",AB25) | AD25: =IF(OR(AD$14="",$E25=""),"",AC25)
D26: =IF(A26<>"","Planned","") | F26: =IF(OR(F$14="",$E26=""),"",E26) | AC26: =IF(OR(AC$14="",$E26=""),"",AB26) | AD26: =IF(OR(AD$14="",$E26=""),"",AC26)
D27: =IF(A27<>"","Planned","") | F27: =IF(OR(F$14="",$E27=""),"",E27) | AC27: =IF(OR(AC$14="",$E27=""),"",AB27) | AD27: =IF(OR(AD$14="",$E27=""),"",AC27)
... D57: =IF(A57<>"","Planned","") | F57: =IF(OR(F$14="",$E57=""),"",E57) | AC57: =IF(OR(AC$14="",$E57=""),"",AB57) | AD57: =IF(OR(AD$14="",$E57=""),"",AC57)
D58: =IF(A58<>"","Planned","") | F58: =IF(OR(F$14="",$E58=""),"",E58) | G58: =IF(OR(G$14="",$E58=""),"",F58) | H58: =IF(OR(H$14="",$E58=""),"",G58) | I58: =IF(OR(I$14="",$E58=""),"",H58) | J58: =IF(OR(J$14="",$E58=""),"",I58) | K58: =IF(OR(K$14="",$E58=""),"",J58) | L58: =IF(OR(L$14="",$E58=""),"",K58) | M58: =IF(OR(M$14="",$E58=""),"",L58) | ... AD58: =IF(OR(AD$14="",$E58=""),"",AC58)
D59: =IF(A59<>"","Planned","") | F59: =IF(OR(F$14="",$E59=""),"",E59) | G59: =IF(OR(G$14="",$E59=""),"",F59) | H59: =IF(OR(H$14="",$E59=""),"",G59) | I59: =IF(OR(I$14="",$E59=""),"",H59) | J59: =IF(OR(J$14="",$E59=""),"",I59) | K59: =IF(OR(K$14="",$E59=""),"",J59) | L59: =IF(OR(L$14="",$E59=""),"",K59) | M59: =IF(OR(M$14="",$E59=""),"",L59) | ... AD59: =IF(OR(AD$14="",$E59=""),"",AC59)
D64: =IF(A64<>"","Planned","")

Sheet Task Slips
A1: Story ID: | B1: 1 | C1: Story: | D1: This is a sample story
A2: Task: | B2: Example task
A5: =CONCATENATE("Responsible Person: ",'Sp1'!C15) -> Responsible Person: Team
A6: Initial Estimate | B6: 5 | C6: Work Done | E6: Work Left
A9: Story ID: | B9: 1 | C9: Story: | D9: This is a sample story
A10: Task: | B10: Example task 2
A13: =CONCATENATE("Responsible Person: ",'Sp1'!C16) -> Responsible Person:
A14: Initial Estimate | B14: 7 | C14: Work Done | E14: Work Left
A17: Story ID: | B17: 2 | C17: Story: | D17: This is another sample story
A18: Task: | B18: Example task 3
A21: =CONCATENATE("Responsible Person: ",'Sp1'!C17) -> Responsible Person:
A22: Initial Estimate | B22: 12 | C22: Work Done | E22: Work Left
A25: Story ID: | B25: 2 | C25: Story: | D25: This is another sample story
A26: Task: | B26: <Delete these example lines>
A29: =CONCATENATE("Responsible Person: ",'Sp1'!C18) -> Responsible Person:
A30: Initial Estimate | B30: 9 | C30: Work Done | E30: Work Left
